BEGIN:VCALENDAR
VERSION:2.0
PRODID:-//ChamberMaster//Event Calendar 2.0//EN
METHOD:PUBLISH
X-PUBLISHED-TTL:P3D
REFRESH-INTERVAL:P3D
CALSCALE:GREGORIAN
BEGIN:VEVENT
DTSTART:20240209T203000Z
DTEND:20240209T223000Z
X-MICROSOFT-CDO-ALLDAYEVENT:FALSE
SUMMARY:YMCA Brook's BBQ Drive Thru
DESCRIPTION:Full Dinners and 1/2 chicken options. Drive in\, get your meal! Dinner is done and you have help Guilderland YMCA support community programs!
X-ALT-DESC;FMTTYPE=text/html:Full Dinners and 1/2 chicken options. Drive in\, get your meal! Dinner is done and you have help Guilderland YMCA support community programs!
LOCATION:250 Winding Brook Drive Guilderland\, NY 12084
UID:e.3231.2743
SEQUENCE:3
DTSTAMP:20260425T223334Z
URL:https://business.guilderlandchamber.com/events/details/ymca-brook-s-bbq-drive-thru-2743
END:VEVENT

END:VCALENDAR
