BEGIN:VCALENDAR
VERSION:2.0
PRODID:-//ChamberMaster//Event Calendar 2.0//EN
METHOD:PUBLISH
X-PUBLISHED-TTL:P3D
REFRESH-INTERVAL:P3D
CALSCALE:GREGORIAN
BEGIN:VEVENT
DTSTART:20251209T163000Z
DTEND:20251209T183000Z
X-MICROSOFT-CDO-ALLDAYEVENT:FALSE
SUMMARY:Women's Luncheon
DESCRIPTION:The New York Capital District Christian Women's Connection is sponsoring a "Tis' the Jolly Season" luncheon on Tuesday\, December 9\, 2025\, at the Guilderland Elks Lodge\, 3867 Carman Road in Schenectady\, NY 12303 beginning at 11:30am and ending at approximately 1:30pm. Cost is $18 cash at door. Please be prompt. Please call Nancy at (518) 320-2649 by December 3 for reservation. Thank you.
X-ALT-DESC;FMTTYPE=text/html:The New York Capital District Christian Women&#39\;s Connection is sponsoring a &ldquo\;Tis&rsquo\; the Jolly Season&rdquo\; luncheon on Tuesday\, December 9\, 2025\, at the Guilderland Elks Lodge\, 3867 Carman Road in Schenectady\, NY 12303 beginning at 11:30am and ending at approximately 1:30pm. Cost is $18 cash at door. Please be prompt. Please call Nancy at (518) 320-2649 by December 3 for reservation. Thank you.
LOCATION:Guilderland Elks Lodge\, 3867 Carman Road in Schenectady\, NY 12303
UID:e.3231.3322
SEQUENCE:3
DTSTAMP:20260420T085619Z
URL:https://business.guilderlandchamber.com/events/details/women-s-luncheon-12-09-2025-3322
END:VEVENT

END:VCALENDAR
