BEGIN:VCALENDAR
VERSION:2.0
PRODID:-//ChamberMaster//Event Calendar 2.0//EN
METHOD:PUBLISH
X-PUBLISHED-TTL:P3D
REFRESH-INTERVAL:P3D
CALSCALE:GREGORIAN
BEGIN:VEVENT
DTSTART:20240709T153000Z
DTEND:20240709T173000Z
X-MICROSOFT-CDO-ALLDAYEVENT:FALSE
SUMMARY:Women's Luncheon
DESCRIPTION:The New York Capital District Christian Women's Connection is sponsoring an "Melody of Summer" luncheon on Tuesday\, July 9\, 2024 at the Guilderland Elks Lodge\, beginning at 11:30am and ending at approximately 1:30pm. Please be prompt. Please call Nancy at (518) 320-2649 by July 3 for reservation. Thank you.
X-ALT-DESC;FMTTYPE=text/html:The New York Capital District Christian Women&#39\;s Connection is sponsoring an &ldquo\;Melody of Summer&rdquo\; luncheon on Tuesday\, July 9\, 2024 at the Guilderland Elks Lodge\, beginning at 11:30am and ending at approximately 1:30pm. Please be prompt. Please call Nancy at (518) 320-2649 by July 3 for reservation. Thank you.
LOCATION:Guilderland Elks Lodge\, 3867 Carman Road in Schenectady\, NY 12303
UID:e.3231.2810
SEQUENCE:3
DTSTAMP:20260425T114407Z
URL:https://business.guilderlandchamber.com/events/details/women-s-luncheon-07-09-2024-2810
END:VEVENT

END:VCALENDAR
