BEGIN:VCALENDAR
VERSION:2.0
PRODID:-//ChamberMaster//Event Calendar 2.0//EN
METHOD:PUBLISH
X-PUBLISHED-TTL:P3D
REFRESH-INTERVAL:P3D
CALSCALE:GREGORIAN
BEGIN:VEVENT
DTSTART:20240515T213000Z
DTEND:20240515T230000Z
X-MICROSOFT-CDO-ALLDAYEVENT:FALSE
SUMMARY:Women in Business Monthly Meeting
DESCRIPTION:Women in Business Monthly Meeting\n\n\n\nAlexis Sky from the Book House will be talking about her story that was published in James Patterson's newest nonfiction work called "The Secret Lives of Booksellers and Librarians."
X-ALT-DESC;FMTTYPE=text/html:Women in Business Monthly Meeting<br />\n<br />\n<span style="caret-color: rgb(33\, 33\, 33)\; color: rgb(33\, 33\, 33)\; font-family: Calibri\, sans-serif\; font-size: 14.6667px\;">Alexis Sky from the Book House will be talking about her story that was published in James Patterson&rsquo\;s newest nonfiction work called &ldquo\;The Secret Lives of Booksellers and Librarians.&rdquo\;</span>
LOCATION:The Book House Stuyvesant Plaza 1475 Western Ave Albany\, NY 12203
UID:e.3231.2772
SEQUENCE:3
DTSTAMP:20260425T195603Z
URL:https://business.guilderlandchamber.com/events/details/women-in-business-monthly-meeting-2772
END:VEVENT

END:VCALENDAR
