BEGIN:VCALENDAR
VERSION:2.0
PRODID:-//ChamberMaster//Event Calendar 2.0//EN
METHOD:PUBLISH
X-PUBLISHED-TTL:P3D
REFRESH-INTERVAL:P3D
CALSCALE:GREGORIAN
BEGIN:VEVENT
DTSTART:20240221T223000Z
DTEND:20240222T000000Z
X-MICROSOFT-CDO-ALLDAYEVENT:FALSE
SUMMARY:Women in Business Monthly Meeting
DESCRIPTION:Women in Business Monthly Meeting\n\n"Let's Talk Food\, Health and Beauty!"\n\nGuest Speakers: Margaret Carciobolo from Nicole's Restaurant & Catering\, Stacie Hebert from MVP & Elaine Essien from Impeccable Beatz & Spa
X-ALT-DESC;FMTTYPE=text/html:Women in Business Monthly Meeting<br>\n"Let's Talk Food\, Health and Beauty!"<br>\nGuest Speakers: Margaret Carciobolo from Nicole's Restaurant &amp\; Catering\, Stacie Hebert from MVP &amp\; Elaine Essien from Impeccable Beatz &amp\; Spa<br>\n&nbsp\;
LOCATION:Nicole's Restaurant 556 Delaware Ave Albany\, NY 12209
UID:e.3231.2745
SEQUENCE:3
DTSTAMP:20260425T223812Z
URL:https://business.guilderlandchamber.com/events/details/women-in-business-monthly-meeting-2745
END:VEVENT

END:VCALENDAR
