BEGIN:VCALENDAR
VERSION:2.0
PRODID:-//ChamberMaster//Event Calendar 2.0//EN
METHOD:PUBLISH
X-PUBLISHED-TTL:P3D
REFRESH-INTERVAL:P3D
CALSCALE:GREGORIAN
BEGIN:VEVENT
DTSTART:20231116T223000Z
DTEND:20231116T233000Z
X-MICROSOFT-CDO-ALLDAYEVENT:FALSE
SUMMARY:Women in Business Monthly Meeting
DESCRIPTION:Women in Business Monthly Meeting
X-ALT-DESC;FMTTYPE=text/html:Women in Business Monthly Meeting
LOCATION:Gade Farm 2479 Western Ave Guilderland
UID:e.3231.2671
SEQUENCE:3
DTSTAMP:20260426T032103Z
URL:https://business.guilderlandchamber.com/events/details/women-in-business-monthly-meeting-2671
END:VEVENT

END:VCALENDAR
