BEGIN:VCALENDAR
VERSION:2.0
PRODID:-//ChamberMaster//Event Calendar 2.0//EN
METHOD:PUBLISH
X-PUBLISHED-TTL:P3D
REFRESH-INTERVAL:P3D
CALSCALE:GREGORIAN
BEGIN:VEVENT
DTSTART:20240618T213000Z
DTEND:20240619T230000Z
X-MICROSOFT-CDO-ALLDAYEVENT:FALSE
SUMMARY:Women in Business Meeting
DESCRIPTION:Women in Business Monthly Meeting\n\n\n\nMORE DETAILS TO COME
X-ALT-DESC;FMTTYPE=text/html:Women in Business Monthly Meeting<br />\n<br />\nMORE DETAILS TO COME
LOCATION:Altamont Winery 3001 Furbeck Rd Altamont\, NY 12009
UID:e.3231.2778
SEQUENCE:3
DTSTAMP:20260425T165849Z
URL:https://business.guilderlandchamber.com/events/details/women-in-business-meeting-2778
END:VEVENT

END:VCALENDAR
