BEGIN:VCALENDAR
VERSION:2.0
PRODID:-//ChamberMaster//Event Calendar 2.0//EN
METHOD:PUBLISH
X-PUBLISHED-TTL:P3D
REFRESH-INTERVAL:P3D
CALSCALE:GREGORIAN
BEGIN:VEVENT
DTSTART:20241218T220000Z
DTEND:20241218T233000Z
X-MICROSOFT-CDO-ALLDAYEVENT:FALSE
SUMMARY:Women in Business Cookie Exchange
DESCRIPTION:Join other women in our community to network and share ideas. Women supporting women.
X-ALT-DESC;FMTTYPE=text/html:Join other women in our community to network and share ideas. Women supporting women.
LOCATION:300 Great Oaks Blvd. Suite 300 Albany NY 12203
UID:e.3231.2858
SEQUENCE:3
DTSTAMP:20260425T024005Z
URL:https://business.guilderlandchamber.com/events/details/women-in-business-cookie-exchange-2858
END:VEVENT

END:VCALENDAR
