BEGIN:VCALENDAR
VERSION:2.0
PRODID:-//ChamberMaster//Event Calendar 2.0//EN
METHOD:PUBLISH
X-PUBLISHED-TTL:P3D
REFRESH-INTERVAL:P3D
CALSCALE:GREGORIAN
BEGIN:VEVENT
DTSTART:20251015T213000Z
DTEND:20251015T230000Z
X-MICROSOFT-CDO-ALLDAYEVENT:FALSE
SUMMARY:Women In Business
DESCRIPTION:The Guilderland Chamber's evening of Women in Business is a free event that brings together women from our community to network\, share ideas\, and inspire one another. Focused on personal and professional growth\, it's a night of connection and collaboration.
X-ALT-DESC;FMTTYPE=text/html:The Guilderland Chamber&#39\;s evening of Women in Business is a free event that brings together women from our community to network\, share ideas\, and inspire one another. Focused on personal and professional growth\, it&#39\;s a night of connection and collaboration.
LOCATION:This month at 3770 Carman Rd. Schenectady NY 12303
UID:e.3231.3300
SEQUENCE:3
DTSTAMP:20260424T113432Z
URL:https://business.guilderlandchamber.com/events/details/women-in-business-3300
END:VEVENT

END:VCALENDAR
