BEGIN:VCALENDAR
VERSION:2.0
PRODID:-//ChamberMaster//Event Calendar 2.0//EN
METHOD:PUBLISH
X-PUBLISHED-TTL:P3D
REFRESH-INTERVAL:P3D
CALSCALE:GREGORIAN
BEGIN:VEVENT
DTSTART:20240117T223000Z
DTEND:20240118T000000Z
X-MICROSOFT-CDO-ALLDAYEVENT:FALSE
SUMMARY:Women In Business
DESCRIPTION:Women in Business Monthly Meeting\n\n"Paint\, Sip & Network with Consumer Directed Choices"
X-ALT-DESC;FMTTYPE=text/html:<span style="font-size:18px\;"><u><strong>Women in Business Monthly Meeting</strong></u></span><br />\n<span style="font-size:18px\;"><em>&quot\;Paint\, Sip &amp\; Network with Consumer Directed Choices&quot\;</em></span>
LOCATION:Consumer Directed Choices 7 Washington Square Albany\, NY 12205
UID:e.3231.2703
SEQUENCE:3
DTSTAMP:20260426T014532Z
URL:https://business.guilderlandchamber.com/events/details/women-in-business-2703
END:VEVENT

END:VCALENDAR
