BEGIN:VCALENDAR
VERSION:2.0
PRODID:-//ChamberMaster//Event Calendar 2.0//EN
METHOD:PUBLISH
X-PUBLISHED-TTL:P3D
REFRESH-INTERVAL:P3D
CALSCALE:GREGORIAN
BEGIN:VEVENT
DTSTART:20200423T140000Z
DTEND:20200423T150000Z
X-MICROSOFT-CDO-ALLDAYEVENT:FALSE
SUMMARY:Webinar - Reaching Your Customer through Email Marketing
DESCRIPTION:What's the most efficient\, effective and affordable way to stay connected with your customers? Email marketing. Among all the digital channels available to your business\, email marketing boasts the strongest return on your investment. Join us as we discuss using email marketing to your business's advantage\, and what email content will resonate most with your audience.\n\n\n\nWe?ll learn:\n\n	The economic benefits and impact of email marketing\n	The key basics of email marketing\n	Best practices for creating compelling content\n	Tips to getting started with email automation\n\nYou will walk away from this webinar with several valuable resources on email and digital marketing to use in your own business.\n\n\n\nClasses created by Constant Contact. Led by: Erik Bunaes.  Erik Bunaes is a Constant Contact Certified Local Expert and President of Endorphin Advisors LLC. This firm specializes in strategy\, web design and digital marketing for clients nationwide. Erik has run Endorphin Advisors LLC since 2005 and is also a long-time partner and professional trainer for Constant Contact. Learn more at www.endorphinadvisors.com\, and connect with Erik on LinkedIn at www.linkedin.com/in/erikbunaes.
X-ALT-DESC;FMTTYPE=text/html:<span style="font-size:14px\;"><span style="font-family:arial\;">What's the most efficient\, effective and affordable way to stay connected with your customers? Email marketing. Among all the digital channels available to your business\, email marketing boasts the strongest return on your investment. Join us as we discuss using email marketing to your business's advantage\, and what email content will resonate most with your audience.<br>\n<br>\nWe?ll learn:</span></span>\n<ul>\n	<li><span style="font-size:14px\;"><span style="font-family:arial\;">The economic benefits and impact of email marketing</span></span></li>\n	<li><span style="font-size:14px\;"><span style="font-family:arial\;">The key basics of email marketing</span></span></li>\n	<li><span style="font-size:14px\;"><span style="font-family:arial\;">Best practices for creating compelling content</span></span></li>\n	<li><span style="font-size:14px\;"><span style="font-family:arial\;">Tips to getting started with email automation</span></span></li>\n</ul>\n<span style="font-size:14px\;"><span style="font-family:arial\;">You will walk away from this webinar with several valuable resources on email and digital marketing to use in your own business.<br>\n<br>\nClasses created by <a href="https://www.constantcontact.com/" target="_blank">Constant Contact</a>. Led by: Erik Bunaes. &#8203\;<strong>Erik Bunaes </strong>is a Constant Contact Certified Local Expert and President of <a href="https://www.endorphinadvisors.com/" target="_blank">Endorphin Advisors LLC</a>. This firm specializes in strategy\, web design and digital marketing for clients nationwide. Erik has run <a href="https://www.endorphinadvisors.com/" target="_blank">Endorphin Advisors LLC</a> since 2005 and is also a long-time partner and professional trainer for Constant Contact. Learn more at <a href="http://www.endorphinadvisors.com">www.endorphinadvisors.com</a>\, and connect with Erik on LinkedIn at <a href="http://www.linkedin.com/in/erikbunaes">www.linkedin.com/in/erikbunaes</a>.</span></span><br>\n&nbsp\;
LOCATION:Online\, registration required.
UID:e.3231.1670
SEQUENCE:3
DTSTAMP:20260423T072702Z
URL:https://business.guilderlandchamber.com/events/details/webinar-reaching-your-customer-through-email-marketing-1670
END:VEVENT

END:VCALENDAR
