BEGIN:VCALENDAR
VERSION:2.0
PRODID:-//ChamberMaster//Event Calendar 2.0//EN
METHOD:PUBLISH
X-PUBLISHED-TTL:P3D
REFRESH-INTERVAL:P3D
CALSCALE:GREGORIAN
BEGIN:VEVENT
DTSTART:20200420T133000Z
DTEND:20200420T143000Z
X-MICROSOFT-CDO-ALLDAYEVENT:FALSE
SUMMARY:Virtual: Kickstart Your Membership!
DESCRIPTION:Virtually Kickstart Your Membership with the Guilderland Chamber!\n\n\n\nJoin the Guilderland Chamber Executive Director to learn about the benefits of the chamber\, how to engage with the Chamber\, and how to use the Member Information Center (MIC).\n\n\n\nThis event is designed for new members at the chamber and for existing members that are looking to learn more about their membership and how to engage.
X-ALT-DESC;FMTTYPE=text/html:<span style="font-size:14px\;"><span style="font-family:arial\;"><span style="color:#000000\;">Virtually Kickstart Your Membership with the Guilderland Chamber!<br />\n<br />\nJoin the Guilderland Chamber Executive Director to learn about the benefits of the chamber\, how to engage with the Chamber\, and how to use the Member Information Center (MIC).</span><br />\n<br />\n<span style="color:#000000\;">This event is designed for new members at the chamber and for existing members that are looking to learn more about their membership and how to engage.&nbsp\;</span></span></span>
LOCATION:Online\, register to get meeting information.
UID:e.3231.1661
SEQUENCE:3
DTSTAMP:20260423T075352Z
URL:https://business.guilderlandchamber.com/events/details/virtual-kickstart-your-membership-1661
END:VEVENT

END:VCALENDAR
