BEGIN:VCALENDAR
VERSION:2.0
PRODID:-//ChamberMaster//Event Calendar 2.0//EN
METHOD:PUBLISH
X-PUBLISHED-TTL:P3D
REFRESH-INTERVAL:P3D
CALSCALE:GREGORIAN
BEGIN:VEVENT
DTSTART:20240420T220000Z
DTEND:20240421T020000Z
X-MICROSOFT-CDO-ALLDAYEVENT:FALSE
SUMMARY:Victoria Acres Barn Dance Gala
DESCRIPTION:Please join us for Victoria Acres' 2nd annual Barn Dance Gala on Saturday\, April 20\, 2024. Tickets are $75 and available for pre- order only at https://rb.gy/fbatx6 All proceeds go toward our equine-assisted therapy programs for children and adults. Victoria Acres Equine Facility is a 501(c)3 non-profit organization located in Guilderland\, NY.
X-ALT-DESC;FMTTYPE=text/html:Please join us for Victoria Acres&#39\; 2nd annual Barn Dance Gala on Saturday\, April 20\, 2024. Tickets are $75 and available for pre- order only at https://rb.gy/fbatx6 All proceeds go toward our equine-assisted therapy programs for children and adults. Victoria Acres Equine Facility is a 501(c)3 non-profit organization located in Guilderland\, NY.
LOCATION:SETTLES HILL BANQUETS & EVENTS 721 Old Settles Hill Rd\, Altamont\, NY\, United States\, New York
UID:e.3231.2767
SEQUENCE:3
DTSTAMP:20260425T195126Z
URL:https://business.guilderlandchamber.com/events/details/victoria-acres-barn-dance-gala-2767
END:VEVENT

END:VCALENDAR
