BEGIN:VCALENDAR
VERSION:2.0
PRODID:-//ChamberMaster//Event Calendar 2.0//EN
METHOD:PUBLISH
X-PUBLISHED-TTL:P3D
REFRESH-INTERVAL:P3D
CALSCALE:GREGORIAN
BEGIN:VEVENT
DTSTART:20251030T190000Z
DTEND:20251030T220000Z
X-MICROSOFT-CDO-ALLDAYEVENT:FALSE
SUMMARY:Union Hall Supply Co. Anniversary Party
DESCRIPTION:Union Hall Supply Company   the men's outfitter known for its rugged-yet-refined aesthetic and commitment to quality   is proud to celebrate the one-year anniversary of its Stuyvesant Plaza location with a special Anniversary Party + One Day Only Sale on Thursday\, October 30\, 2025. To mark the milestone\, Union Hall invites the community to join the celebration at its Stuyvesant Plaza shop from 3:00 6:00 PM\, featuring: ?? DJ Lenny Tofu   Spinning Good Sounds + Better Vibes ?? Nosh on Char-boo-terie (our kind of board) ?? Swag Bar with Freebies + Anniversary Gifts ?? Whiskey Tastings & Expert Styling Sessions ?? 20% OFF Storewide Anniversary Discount ?? Gift with Purchase During the Party The store-wide Anniversary Sale will run all day\, followed by an in-store Anniversary Party from 3:00 to 6:00 PM. Guests are encouraged to stop by\, enjoy a drink\, shop new fall arrivals from Faherty\, Taylor Stitch\, Relwen\, Marine Layer\, Rodd & Gunn\, and more   and raise a glass to one year of good style and good times.
X-ALT-DESC;FMTTYPE=text/html:Union Hall Supply Company &mdash\; the men&rsquo\;s outfitter known for its rugged-yet-refined aesthetic and commitment to quality &mdash\; is proud to celebrate the one-year anniversary of its Stuyvesant Plaza location with a special Anniversary Party + One Day Only Sale on Thursday\, October 30\, 2025. To mark the milestone\, Union Hall invites the community to join the celebration at its Stuyvesant Plaza shop from 3:00&ndash\;6:00 PM\, featuring: ?? DJ Lenny Tofu &bull\; Spinning Good Sounds + Better Vibes ?? Nosh on Char-boo-terie (our kind of board) ?? Swag Bar with Freebies + Anniversary Gifts ?? Whiskey Tastings &amp\; Expert Styling Sessions ?? 20% OFF Storewide Anniversary Discount ?? Gift with Purchase During the Party The store-wide Anniversary Sale will run all day\, followed by an in-store Anniversary Party from 3:00 to 6:00 PM. Guests are encouraged to stop by\, enjoy a drink\, shop new fall arrivals from Faherty\, Taylor Stitch\, Relwen\, Marine Layer\, Rodd &amp\; Gunn\, and more &mdash\; and raise a glass to one year of good style and good times.
LOCATION:Union Hall Supply Co. 1475 Western Ave. Suite 35 Albany\, NY 12203\, USA
UID:e.3231.3303
SEQUENCE:3
DTSTAMP:20260424T154633Z
URL:https://business.guilderlandchamber.com/events/details/union-hall-supply-co-anniversary-party-3303
END:VEVENT

END:VCALENDAR
