BEGIN:VCALENDAR
VERSION:2.0
PRODID:-//ChamberMaster//Event Calendar 2.0//EN
METHOD:PUBLISH
X-PUBLISHED-TTL:P3D
REFRESH-INTERVAL:P3D
CALSCALE:GREGORIAN
BEGIN:VEVENT
DTSTART:20240121T030000Z
DTEND:20240121T040000Z
X-MICROSOFT-CDO-ALLDAYEVENT:FALSE
SUMMARY:Staying Sharp: Strategies for Taking Care of Your Brain
DESCRIPTION:Staying Sharp: Strategies for Taking Care of Your Brain\n\nMental Health Workshop Series hosted by the Guilderland YMCA
X-ALT-DESC;FMTTYPE=text/html:Staying Sharp: Strategies for Taking Care of Your Brain<br />\nMental Health Workshop Series hosted by the Guilderland YMCA
LOCATION:Guilderland YMCA 250 Winding Brook Drive Guilderland\, NY 12084
UID:e.3231.2736
SEQUENCE:3
DTSTAMP:20260426T001556Z
URL:https://business.guilderlandchamber.com/events/details/staying-sharp-strategies-for-taking-care-of-your-brain-2736
END:VEVENT

END:VCALENDAR
