BEGIN:VCALENDAR
VERSION:2.0
PRODID:-//ChamberMaster//Event Calendar 2.0//EN
METHOD:PUBLISH
X-PUBLISHED-TTL:P3D
REFRESH-INTERVAL:P3D
CALSCALE:GREGORIAN
BEGIN:VEVENT
DTSTART:20240211T160000Z
DTEND:20240211T180000Z
X-MICROSOFT-CDO-ALLDAYEVENT:FALSE
SUMMARY:Shower Them with Love
DESCRIPTION:Come spread some love for GCSD Students and their families by dropping off hygiene items from the comfort of your vehicle!
X-ALT-DESC;FMTTYPE=text/html:Come spread some love for GCSD Students and their families by dropping off hygiene items from the comfort of your vehicle!
LOCATION:Guilderland Public Library Drop off area will be the side parking lot (west side of Mercycare Lane) 2228 Western Ave Guilderland\, NY 12084
UID:e.3231.2751
SEQUENCE:3
DTSTAMP:20260426T001347Z
URL:https://business.guilderlandchamber.com/events/details/shower-them-with-love-2751
END:VEVENT

END:VCALENDAR
