BEGIN:VCALENDAR
VERSION:2.0
PRODID:-//ChamberMaster//Event Calendar 2.0//EN
METHOD:PUBLISH
X-PUBLISHED-TTL:P3D
REFRESH-INTERVAL:P3D
CALSCALE:GREGORIAN
BEGIN:VEVENT
DTSTART:20241123T160000Z
DTEND:20241123T210000Z
X-MICROSOFT-CDO-ALLDAYEVENT:FALSE
SUMMARY:Shop\, Hop & Let the Holiday Magic Begin
DESCRIPTION:Get ready to jumpstart your holiday spirit with an unforgettable shopping adventure! This extravaganza is designed to bring you all the festive cheer\, shopping deals\, and holiday magic you could ask for. Leave the hassle of driving behind\, park your car at Crossgates Mall\, and hop on our magical holiday bus tour!
X-ALT-DESC;FMTTYPE=text/html:Get ready to jumpstart your holiday spirit with an unforgettable shopping adventure! This extravaganza is designed to bring you all the festive cheer\, shopping deals\, and holiday magic you could ask for. Leave the hassle of driving behind\, park your car at Crossgates Mall\, and hop on our magical holiday bus tour!
LOCATION:Event: "Shop\, Hop\, and Let the Holiday Magic Begin!" Get ready to jumpstart your holiday spirit with an unforgettable shopping adventure! This extravaganza is designed to bring you all the festive cheer\, shopping deals\, and holiday magic you could ask for. Leave the hassle of driving behind\, park your car at Crossgates Mall\, and hop on our magical holiday bus tour! What to Expect: Stop 1: Samantha's Gift Shop (Slingerlands) Step into this cozy\, family-owned gift shop filled with unique finds and local treasures. Browse one-of-a-kind gifts\, holiday d cor\, and more perfect for checking off your gift list. Stop 2: Downtown Altamont Explore the charming boutiques and businesses in Altamont's downtown\, known for its small-town charm and hidden gems. Don't forget to grab some holiday treats and support local! Stop 3: Hamilton Square Your next stop is Hamilton Square\, a bustling shopping center with dozens of stores and eateries. Whether you're hunting for fashion\, home goods\, or the perfect gift\, you'll find it here. Stop 4: Stuyvesant Plaza Enjoy the stylish mix of shops and cafes at Stuyvesant Plaza. From high-end boutiques to specialty stores\, this stop will round out your shopping spree with holiday joy. Extras! Our luxury bus is decked out in holiday decorations and packed with goodies to keep you entertained and cozy throughout the trip. Sip on hot cocoa\, enjoy holiday-themed refreshments\, and participate in fun games! Sing along to your favorite carols and soak in the festive atmosphere. This is your chance to shop\, hop\, and let the holiday magic truly begin. Don't miss out on a day of shopping\, fun\, and festive memories. Seats are limited\, so grab your ticket today!
UID:e.3231.2844
SEQUENCE:3
DTSTAMP:20260425T040732Z
URL:https://business.guilderlandchamber.com/events/details/shop-hop-let-the-holiday-magic-begin-2844
END:VEVENT

END:VCALENDAR
