BEGIN:VCALENDAR
VERSION:2.0
PRODID:-//ChamberMaster//Event Calendar 2.0//EN
METHOD:PUBLISH
X-PUBLISHED-TTL:P3D
REFRESH-INTERVAL:P3D
CALSCALE:GREGORIAN
BEGIN:VEVENT
DTSTART;VALUE=DATE:20240401
DTEND;VALUE=DATE:20240425
TRANSP:TRANSPARENT
X-MICROSOFT-CDO-ALLDAYEVENT:TRUE
SUMMARY:Seasons of Guilderland Passport Advertising
DESCRIPTION:PURCHASE DEADLINE EXTENSION TO APRIL 24th\n\n\n\nAdvertise Your Business in Our 2024-2025\n\nSeasons of Guilderland Passport\n\nLocal Guilderland Businesses are invited to participate in our upcoming tourist passport.\n\n \n\nThe Four Seasons of Guilderland tourism initiative will highlight all that there is to do in the Town of Guilderland and its surrounding hilltowns\,\n\n\n\nThroughout 2024 and 2025\, natives and visitors to the town will be able to utilize a specially developed Passport Map to highlight some of the amazing tourism spots throughout the area. Included in the Passport Map will be opportunities for local businesses to list their information as an advertisement.\n\n\n\nThe Town of Guilderland boasts a rich landscape of farms\, wineries\, and breweries\, each contributing uniquely to the region's agricultural and culinary tapestry. And each of these locations will have a spot on the passport to provide a stamp\, signifying the tourist's visit\, and provides an opportunity to win raffle prizes at our spring 2025 event.\n\n\n\nPassports will be handed out at The Four Seasons of Guilderland kick off event scheduled for May 22\, 2024 from 4:30pm-6:30pm at Jacob & Anthony's in Stuyvesant Plaza. Passports will also be available at the Guilderland Chamber of Commerce's office located at 300 Great Oaks Blvd\, Suite 300\, Albany\, inside Hone Coworks\, during normal business hours.
X-ALT-DESC;FMTTYPE=text/html:<div style="text-align: center\;"><span style="font-size:18px\;"><strong>PURCHASE DEADLINE EXTENSION TO APRIL 24th<br />\n<br />\nAdvertise Your Business in Our 2024-2025<br />\nSeasons of Guilderland Passport</strong></span></div>\n\n<div style="text-align: center\;"><span style="font-size:18px\;"><em>Local Guilderland Businesses are invited to participate in our upcoming tourist passport.</em></span><br />\n&nbsp\;</div>\n\n<div><em>The Four Seasons of Guilderland tourism initiative will highlight all that there is to do in the Town of Guilderland and its surrounding hilltowns\,<br />\n<br />\nThroughout 2024 and 2025\, natives and visitors to the town will be able to utilize a specially developed Passport Map to highlight some of the amazing tourism spots throughout the area. Included in the Passport Map will be opportunities for local businesses to list their information as an advertisement.<br />\n<br />\nThe Town of Guilderland boasts a rich landscape of farms\, wineries\, and breweries\, each contributing uniquely to the region&#39\;s agricultural and culinary tapestry. And each of these locations will have a spot on the passport to provide a stamp\, signifying the tourist&#39\;s visit\, and provides an opportunity to win raffle prizes at our spring 2025 event.<br />\n<br />\nPassports will be handed out at The Four Seasons of Guilderland kick off event scheduled for May 22\, 2024 from 4:30pm-6:30pm at Jacob &amp\; Anthony&#39\;s in Stuyvesant Plaza. Passports will also be available at the Guilderland Chamber of Commerce&#39\;s office located at 300 Great Oaks Blvd\, Suite 300\, Albany\, inside Hone Coworks\, during normal business hours.</em><br />\n&nbsp\;</div>\n
LOCATION:
UID:e.3231.2785
SEQUENCE:3
DTSTAMP:20260425T211629Z
URL:https://business.guilderlandchamber.com/events/details/seasons-of-guilderland-passport-advertising-2785
END:VEVENT

END:VCALENDAR
