BEGIN:VCALENDAR
VERSION:2.0
PRODID:-//ChamberMaster//Event Calendar 2.0//EN
METHOD:PUBLISH
X-PUBLISHED-TTL:P3D
REFRESH-INTERVAL:P3D
CALSCALE:GREGORIAN
BEGIN:VEVENT
DTSTART:20231111T183000Z
DTEND:20231112T000000Z
X-MICROSOFT-CDO-ALLDAYEVENT:FALSE
SUMMARY:RUCK March
DESCRIPTION:Join Us! For A 6.8 mile "Ruck March" Fundraiser\n\n\n\nWhat: 6.8 mile "Ruck March" fundraiser to support America's Veterans and local nonprofits (walkers/runners are welcome/invited)\n\n\n\nWho: No prior military experience required! Those interested in marching with a ruck sack (backpack) are encouraged to pack 35lbs of nonperishables to be donated to the Food Pantries for the Capital Distrcit.\n\n\n\nWhy: To raise money for the Boot Campaign and celebrate our "68W" American corn whiskey\, in support of the Hidden Battles Foundation and to commemorate the Army Combat Medic (known as "68 Whiskeys")
X-ALT-DESC;FMTTYPE=text/html:Join Us! For A 6.8 mile &quot\;Ruck March&quot\; Fundraiser<br />\n<br />\nWhat: 6.8 mile &quot\;Ruck March&quot\; fundraiser to support America&#39\;s Veterans and local nonprofits (walkers/runners are welcome/invited)<br />\n<br />\nWho: No prior military experience required! Those interested in marching with a ruck sack (backpack) are encouraged to pack 35lbs of nonperishables to be donated to the Food Pantries for the Capital Distrcit.<br />\n<br />\nWhy: To raise money for the Boot Campaign and celebrate our &quot\;68W&quot\; American corn whiskey\, in support of the Hidden Battles Foundation and to commemorate the Army Combat Medic (known as &quot\;68 Whiskeys&quot\;)
LOCATION:Where: The Ruck March will begin at Voorheesville's American Legion Post 1493. It will proceed 3.4 miles down the Heldeberg-Hudson Rail Trail\, then about-face to finish at the Legion for the "Finisher's Reception"
UID:e.3231.2682
SEQUENCE:3
DTSTAMP:20260426T031747Z
URL:https://business.guilderlandchamber.com/events/details/ruck-march-2682
END:VEVENT

END:VCALENDAR
