BEGIN:VCALENDAR
VERSION:2.0
PRODID:-//ChamberMaster//Event Calendar 2.0//EN
METHOD:PUBLISH
X-PUBLISHED-TTL:P3D
REFRESH-INTERVAL:P3D
CALSCALE:GREGORIAN
BEGIN:VEVENT
DTSTART;VALUE=DATE:20231130
DTEND;VALUE=DATE:20231201
TRANSP:TRANSPARENT
X-MICROSOFT-CDO-ALLDAYEVENT:TRUE
SUMMARY:Robinson's Hardware Ladies Night
DESCRIPTION:Robinson Hardware and Samantha's Gift Shop are proud to present\, Ladies Night 2023 from 6PM - 8PM on Thursday November 30th!\n\nJoin us for a fun filled night of Local Vendors\, Refreshments\, DJ Music\, Raffle Prizes\, and More!
X-ALT-DESC;FMTTYPE=text/html:<div class="xdj266r x11i5rnm xat24cr x1mh8g0r x1vvkbs" style="margin: 0px\; overflow-wrap: break-word\; font-family: system-ui\, -apple-system\, &quot\;system-ui&quot\;\, &quot\;.SFNSText-Regular&quot\;\, sans-serif\; color: rgb(5\, 5\, 5)\; font-size: 15px\;">Robinson Hardware and Samantha&#39\;s Gift Shop are proud to present\, Ladies Night 2023 from 6PM - 8PM on Thursday November 30th!</div>\n\n<div class="x11i5rnm xat24cr x1mh8g0r x1vvkbs xtlvy1s" style="margin: 0.5em 0px 0px\; overflow-wrap: break-word\; font-family: system-ui\, -apple-system\, &quot\;system-ui&quot\;\, &quot\;.SFNSText-Regular&quot\;\, sans-serif\; color: rgb(5\, 5\, 5)\; font-size: 15px\;">Join us for a fun filled night of Local Vendors\, Refreshments\, DJ Music\, Raffle Prizes\, and More!</div>\n
LOCATION:
UID:e.3231.2677
SEQUENCE:3
DTSTAMP:20260426T031808Z
URL:https://business.guilderlandchamber.com/events/details/robinson-s-hardware-ladies-night-2677
END:VEVENT

END:VCALENDAR
