BEGIN:VCALENDAR
VERSION:2.0
PRODID:-//ChamberMaster//Event Calendar 2.0//EN
METHOD:PUBLISH
X-PUBLISHED-TTL:P3D
REFRESH-INTERVAL:P3D
CALSCALE:GREGORIAN
BEGIN:VEVENT
DTSTART:20240412T200000Z
DTEND:20240412T210000Z
X-MICROSOFT-CDO-ALLDAYEVENT:FALSE
SUMMARY:Ribbon Cutting: Urban Air
DESCRIPTION:Ribbon Cutting: Urban Air Albany
X-ALT-DESC;FMTTYPE=text/html:Ribbon Cutting: Urban Air Albany&nbsp\;&nbsp\;&nbsp\;&nbsp\;
LOCATION:Urban Air Albany Crossgates Commons
UID:e.3231.2787
SEQUENCE:3
DTSTAMP:20260425T195132Z
URL:https://business.guilderlandchamber.com/events/details/ribbon-cutting-urban-air-2787
END:VEVENT

END:VCALENDAR
