BEGIN:VCALENDAR
VERSION:2.0
PRODID:-//ChamberMaster//Event Calendar 2.0//EN
METHOD:PUBLISH
X-PUBLISHED-TTL:P3D
REFRESH-INTERVAL:P3D
CALSCALE:GREGORIAN
BEGIN:VEVENT
DTSTART:20231012T183000Z
DTEND:20231012T190000Z
X-MICROSOFT-CDO-ALLDAYEVENT:FALSE
SUMMARY:Ribbon Cutting at Floor & Decor
DESCRIPTION:Celebrate the New Albany Location!
X-ALT-DESC;FMTTYPE=text/html:Celebrate the New Albany Location!
LOCATION:Floor & Decor 1425 Central Ave Albany\, NY 12205
UID:e.3231.2665
SEQUENCE:3
DTSTAMP:20260426T043846Z
URL:https://business.guilderlandchamber.com/events/details/ribbon-cutting-at-floor-decor-2665
END:VEVENT

END:VCALENDAR
