BEGIN:VCALENDAR
VERSION:2.0
PRODID:-//ChamberMaster//Event Calendar 2.0//EN
METHOD:PUBLISH
X-PUBLISHED-TTL:P3D
REFRESH-INTERVAL:P3D
CALSCALE:GREGORIAN
BEGIN:VEVENT
DTSTART;VALUE=DATE:20240715
DTEND;VALUE=DATE:20240723
TRANSP:TRANSPARENT
X-MICROSOFT-CDO-ALLDAYEVENT:TRUE
SUMMARY:Restaurant Week
DESCRIPTION:SAVE THE DATES!\n\n\n\nRESTAURANT WEEK JULY 15TH-22ND\n\n\n\nPARTICIPATING LOCATIONS AND OTHER DETAILS TO COME
X-ALT-DESC;FMTTYPE=text/html:<span style="font-size:18px\;"><u><strong>SAVE THE DATES!</strong></u></span><br />\n<br />\n<span style="font-size:18px\;"><strong><span style="color:#FF0000\;">RESTAURANT WEEK JULY 15TH-22ND</span></strong></span><br />\n<br />\nPARTICIPATING LOCATIONS AND OTHER DETAILS TO COME
LOCATION:Participating Restaurants Athos\, Cafe' Calabria II\, Jacob & Anthony's\, Hedge Bistro\, Mezzanotte\, Northern Barrell\, Peaches Cafe'\, Sage Bistro\, Tara Kitchen\, The Cider House at Orchard Creek Golf Club
UID:e.3231.2774
SEQUENCE:3
DTSTAMP:20260425T114524Z
URL:https://business.guilderlandchamber.com/events/details/restaurant-week-2774
END:VEVENT

END:VCALENDAR
