BEGIN:VCALENDAR
VERSION:2.0
PRODID:-//ChamberMaster//Event Calendar 2.0//EN
METHOD:PUBLISH
X-PUBLISHED-TTL:P3D
REFRESH-INTERVAL:P3D
CALSCALE:GREGORIAN
BEGIN:VEVENT
DTSTART:20240314T120000Z
DTEND:20240314T140000Z
X-MICROSOFT-CDO-ALLDAYEVENT:FALSE
SUMMARY:RESCHEDULED: State of the Town
DESCRIPTION:RESCHEDULED: THURSDAY\, MARCH 14th\n\n2024 Guilderland State of the Town\n \n\n(Guilderland\, N.Y.) ? The Guilderland Chamber of Commerce is honored to host the State of the Town on March 14th at Albany Funny Bone in Crossgates Mall.\n\n \n\nThe doors will open at 8 am: networking and a light continental breakfast buffet. Local\, County\, and State Representatives will speak from 8:30 am-9:40 am with questions and answers from 9:40 am- 10 am.\n\n \n\nThis is an opportunity to hear from key leaders who will speak briefly about our community's current challenges and discuss plans for the near future.\n\n \n\nAll are welcome to attend\, listen to our speakers\, and ask questions. Registration is $20.00 per person for Guilderland Chamber Members and $25.00 for Non-Members.\n\n \n\nFor more information and to register\, please visit https://business.guilderlandchamber.com/events/details/state-of-the-town-2731\n\n \n\nAbout the Guilderland Chamber of Commerce. Founded in 1972\, the Guilderland Chamber of Commerce is dedicated to strengthening member businesses and community involvement to stimulate growth and a positive town image within our local economy.
X-ALT-DESC;FMTTYPE=text/html:<div style="text-align: center\;"><strong><span style="font-size:16pt\;"><span style="color:#FF0000\;"><u>RESCHEDULED: THURSDAY\, MARCH 14th</u></span><br />\n2024 Guilderland State of the Town</span></strong></div>\n&nbsp\;<br />\n(Guilderland\, N.Y.) ? The <span style="color:#1155cc\;">Guilderland Chamber of Commerce</span> is honored to host the State of the Town on March 14<sup>th</sup> at Albany Funny Bone in Crossgates Mall.<br />\n&nbsp\;<br />\nThe doors will open at 8 am: networking and a light continental breakfast buffet. Local\, County\, and State Representatives will speak from 8:30 am-9:40 am with questions and answers from 9:40 am- 10 am.<br />\n&nbsp\;<br />\nThis is an opportunity to hear from key leaders who will speak briefly about our community&#39\;s current challenges and discuss plans for the near future.<br />\n&nbsp\;<br />\nAll are welcome to attend\, listen to our speakers\, and ask questions. Registration is $20.00 per person for Guilderland Chamber Members and $25.00 for Non-Members.<br />\n&nbsp\;<br />\nFor more information and to register\, please visit <a href="https://business.guilderlandchamber.com/events/details/state-of-the-town-2731" style="color:blue\;">https://business.guilderlandchamber.com/events/details/state-of-the-town-2731</a><br />\n&nbsp\;<br />\n<strong><span style="font-size:10pt\;">About the Guilderland Chamber of Commerce</span></strong><span style="font-size:10pt\;">. Founded in 1972\, the Guilderland Chamber of Commerce is dedicated to strengthening member businesses and community involvement to stimulate growth and a positive town image within our local economy.</span>
LOCATION:Albany Funny Bone Crossgates Mall 1 Crossgates Mall Rd Albany\, NY 12203
UID:e.3231.2731
SEQUENCE:3
DTSTAMP:20260425T223643Z
URL:https://business.guilderlandchamber.com/events/details/rescheduled-state-of-the-town-2731
END:VEVENT

END:VCALENDAR
