BEGIN:VCALENDAR
VERSION:2.0
PRODID:-//ChamberMaster//Event Calendar 2.0//EN
METHOD:PUBLISH
X-PUBLISHED-TTL:P3D
REFRESH-INTERVAL:P3D
CALSCALE:GREGORIAN
BEGIN:VEVENT
DTSTART:20190508T210000Z
DTEND:20190508T230000Z
X-MICROSOFT-CDO-ALLDAYEVENT:FALSE
SUMMARY:NFP Volunteer Opportunity Event
DESCRIPTION:Guilderland Chamber of Commerce believes in giving back!  There are many Not-for-Profit organizations who rely on help from the community to provide much needed services.  We are holding a NFP Volunteer Opportunity Event on May 8\, 2019 at the Mill Hollow Apartments Community Clubhouse from 5   7:30 PM.  This free event is open to the public and will showcase 10+ local organizations that need volunteers and/or support from both business and residents. In addition\, representatives from Mill Hollow will be offering tours of the apartments\, including their pet-friendly options!  Light refreshments and wine tasting will be available throughout the evening.\n\n\n\nNFP Vendors Include:\n\nAlbany Pine Bush\n\nAlbany Therapeutic Riding Center\n\nCommunity Caregivers\n\nThe Fresh Air Fund\n\nGuilderhaven\, Inc.\n\nGuilderland Food Pantry\n\nThe Guilderland Public Library\n\nGuilderland Senior Services\n\nGuilderland YMCA\n\nMohawk Hudson Humane Society\n\nPatriot Flight
X-ALT-DESC;FMTTYPE=text/html:<p><span style="color:#2F4F4F\;"><span style="font-size:16px\;"><span style="font-family:tahoma\;"><strong>Guilderland Chamber of Commerce believes in giving back!&nbsp\; There are many Not-for-Profit organizations who rely on help from the community to provide much needed services.&nbsp\; We are holding a NFP Volunteer Opportunity Event on May 8\, 2019 at the Mill Hollow Apartments Community Clubhouse from 5 &ndash\; 7:30&nbsp\;PM.&nbsp\; This free event is&nbsp\;open to the public and will showcase 10+ local organizations that need volunteers and/or support from both business and residents. In addition\, representatives from Mill Hollow will be offering tours of the apartments\, including their pet-friendly options! &nbsp\;Light refreshments and wine tasting will be available throughout the evening.</strong></span></span></span><br />\n<br />\n<span style="font-size:18px\;"><span style="color:#800080\;"><strong>NFP Vendors Include:<br />\nAlbany Pine Bush<br />\nAlbany Therapeutic Riding Center<br />\nCommunity Caregivers<br />\nThe Fresh Air Fund<br />\nGuilderhaven\, Inc.<br />\nGuilderland Food Pantry<br />\nThe Guilderland Public Library<br />\nGuilderland Senior Services<br />\nGuilderland YMCA<br />\nMohawk Hudson Humane Society<br />\nPatriot Flight</strong></span></span><br />\n&nbsp\;</p>\n\n<p>&nbsp\;</p>\n
LOCATION:Mill Hollow Apartments Community Clubhouse 48 Bavarian Way Guilderland
UID:e.3231.1474
SEQUENCE:3
DTSTAMP:20260424T102646Z
URL:https://business.guilderlandchamber.com/events/details/nfp-volunteer-opportunity-event-1474
END:VEVENT

END:VCALENDAR
