BEGIN:VCALENDAR
VERSION:2.0
PRODID:-//ChamberMaster//Event Calendar 2.0//EN
METHOD:PUBLISH
X-PUBLISHED-TTL:P3D
REFRESH-INTERVAL:P3D
CALSCALE:GREGORIAN
BEGIN:VEVENT
DTSTART:20250129T220000Z
DTEND:20250130T000000Z
X-MICROSOFT-CDO-ALLDAYEVENT:FALSE
SUMMARY:Networking Mixer
DESCRIPTION:Please join us for a Meet & Greet!
X-ALT-DESC;FMTTYPE=text/html:Please join us for a Meet &amp\; Greet!
LOCATION:Please note: The Mixer is being held at The Apex Apartments at Crossgates\, 6 Crossgates Mall Road\, Albany\, NY 12203. Not Apex Entertainment in Crossgates Mall.
UID:e.3231.2859
SEQUENCE:3
DTSTAMP:20260425T023613Z
URL:https://business.guilderlandchamber.com/events/details/networking-mixer-2859
END:VEVENT

END:VCALENDAR
