BEGIN:VCALENDAR
VERSION:2.0
PRODID:-//ChamberMaster//Event Calendar 2.0//EN
METHOD:PUBLISH
X-PUBLISHED-TTL:P3D
REFRESH-INTERVAL:P3D
CALSCALE:GREGORIAN
BEGIN:VEVENT
DTSTART:20231109T220000Z
DTEND:20231110T000000Z
X-MICROSOFT-CDO-ALLDAYEVENT:FALSE
SUMMARY:Networking Mixer
DESCRIPTION:Networking Mixer at The Hedge Bistro at Western Turnpike Golf Course
X-ALT-DESC;FMTTYPE=text/html:Networking Mixer at The Hedge Bistro at Western Turnpike Golf Course
LOCATION:The Hedge Bistro Western Turnpike Golf Course 2350 Western Ave Guilderland\, NY 12084
UID:e.3231.2670
SEQUENCE:3
DTSTAMP:20260426T031646Z
URL:https://business.guilderlandchamber.com/events/details/networking-mixer-2670
END:VEVENT

END:VCALENDAR
