BEGIN:VCALENDAR
VERSION:2.0
PRODID:-//ChamberMaster//Event Calendar 2.0//EN
METHOD:PUBLISH
X-PUBLISHED-TTL:P3D
REFRESH-INTERVAL:P3D
CALSCALE:GREGORIAN
BEGIN:VEVENT
DTSTART:20240417T140000Z
DTEND:20240417T150000Z
X-MICROSOFT-CDO-ALLDAYEVENT:FALSE
SUMMARY:Local Businesses Unite- Charity Check Presentation
DESCRIPTION:Charity Check Presentation\n\n\n\nToys for Tots\, Guilderland Food Pantry\, Altamont Food Pantry\, and The Caring Closet-Guilderland will be receiving donations from the 2023 holiday fundraiser
X-ALT-DESC;FMTTYPE=text/html:Charity Check Presentation<br />\n<br />\nToys for Tots\, Guilderland Food Pantry\, Altamont Food Pantry\, and The Caring Closet-Guilderland will be receiving donations from the 2023 holiday fundraiser
LOCATION:Phillips Hardware 6517 Route 158 Altamont\, NY 12009
UID:e.3231.2790
SEQUENCE:3
DTSTAMP:20260425T194522Z
URL:https://business.guilderlandchamber.com/events/details/local-businesses-unite-charity-check-presentation-2790
END:VEVENT

END:VCALENDAR
