BEGIN:VCALENDAR
VERSION:2.0
PRODID:-//ChamberMaster//Event Calendar 2.0//EN
METHOD:PUBLISH
X-PUBLISHED-TTL:P3D
REFRESH-INTERVAL:P3D
CALSCALE:GREGORIAN
BEGIN:VEVENT
DTSTART:20240416T160000Z
DTEND:20240416T170000Z
X-MICROSOFT-CDO-ALLDAYEVENT:FALSE
SUMMARY:Learning Lunch: Estate Planning 101
DESCRIPTION:Learning Lunch: Estate Planning 101 with Brittiny Razzano from Razzano Law\, PLLC
X-ALT-DESC;FMTTYPE=text/html:Learning Lunch: Estate Planning 101 with Brittiny Razzano from Razzano Law\, PLLC
LOCATION:Hone Coworks 300 Great Oaks Blvd Suite 300 Albany\, NY 12203
UID:e.3231.2770
SEQUENCE:3
DTSTAMP:20260425T194146Z
URL:https://business.guilderlandchamber.com/events/details/learning-lunch-estate-planning-101-2770
END:VEVENT

END:VCALENDAR
