BEGIN:VCALENDAR
VERSION:2.0
PRODID:-//ChamberMaster//Event Calendar 2.0//EN
METHOD:PUBLISH
X-PUBLISHED-TTL:P3D
REFRESH-INTERVAL:P3D
CALSCALE:GREGORIAN
BEGIN:VEVENT
DTSTART:20241112T170000Z
DTEND:20241112T180000Z
X-MICROSOFT-CDO-ALLDAYEVENT:FALSE
SUMMARY:Learning Lunch
DESCRIPTION:Jonathan Halpert\, MD FACEP\n\nPriority 1 Urgent Care
X-ALT-DESC;FMTTYPE=text/html:Jonathan Halpert\, MD FACEP<br />\nPriority 1 Urgent Care
LOCATION:300 Great Oaks Blvd. Albany\, NY 12203
UID:e.3231.2839
SEQUENCE:3
DTSTAMP:20260425T040419Z
URL:https://business.guilderlandchamber.com/events/details/learning-lunch-2839
END:VEVENT

END:VCALENDAR
