BEGIN:VCALENDAR
VERSION:2.0
PRODID:-//ChamberMaster//Event Calendar 2.0//EN
METHOD:PUBLISH
X-PUBLISHED-TTL:P3D
REFRESH-INTERVAL:P3D
CALSCALE:GREGORIAN
BEGIN:VEVENT
DTSTART:20241008T160000Z
DTEND:20241008T170000Z
X-MICROSOFT-CDO-ALLDAYEVENT:FALSE
SUMMARY:Learning Lunch
DESCRIPTION:Tim Beadnell from Recalibrate HCM.
X-ALT-DESC;FMTTYPE=text/html:Tim Beadnell from Recalibrate HCM.
LOCATION:Hone Coworks 300 Great Oaks Blvd\, Suite 300 Albany\, NY 12203
UID:e.3231.2832
SEQUENCE:3
DTSTAMP:20260420T102807Z
URL:https://business.guilderlandchamber.com/events/details/learning-lunch-2832
END:VEVENT

END:VCALENDAR
