BEGIN:VCALENDAR
VERSION:2.0
PRODID:-//ChamberMaster//Event Calendar 2.0//EN
METHOD:PUBLISH
X-PUBLISHED-TTL:P3D
REFRESH-INTERVAL:P3D
CALSCALE:GREGORIAN
BEGIN:VEVENT
DTSTART:20240521T160000Z
DTEND:20240521T170000Z
X-MICROSOFT-CDO-ALLDAYEVENT:FALSE
SUMMARY:Learning Lunch
DESCRIPTION:Learning Lunch\n\nSpecial Guest: Julie Tidd\, Principal Broker & Owner of CCRE Advisors Real Estate Brokers\n\n\nTopic: The State of Commercial Real Estate in the Capital District\n\nWe will cover the status of the various types of Commercial Real Estate and the data we use to analyze them:\n\n-Multi-Family\n\n-Retail\n\n-Industrial\n\n-Office\n\n-Land\n\n-owner/user \n\n-investment
X-ALT-DESC;FMTTYPE=text/html:<span style="font-size:14px\;"><span style="font-family:arial\;">Learning Lunch<br>\nSpecial Guest:&nbsp\;<em><span style="font-style: italic\;">Julie Tidd\, Principal Broker &amp\; Owner of<span class="OYPEnA text-decoration-none text-strikethrough-none white-space-prewrap" style="font-style: italic\;"> </span>CCRE Advisors Real Estate Brokers</span></em></span></span>\n<p class="x_MsoNormal" style="margin: 0in\; font-size: 16px\; font-family: Calibri\, sans-serif\; caret-color: rgb(33\, 33\, 33)\; color: rgb(33\, 33\, 33)\;"><br>\n<span style="font-size:14px\;"><span style="font-family:arial\;"><span style="line-height: 1.2\;">Topic:&nbsp\;The State of Commercial Real Estate in the Capital District</span></span></span></p>\n\n<p class="x_MsoNormal" style="margin: 0in\; font-size: 16px\; font-family: Calibri\, sans-serif\; caret-color: rgb(33\, 33\, 33)\; color: rgb(33\, 33\, 33)\;"><span style="font-size:14px\;"><span style="font-family:arial\;"><span style="line-height: 1.2\;">We will cover the status of the various types of Commercial Real Estate and the data we use to analyze them:</span></span></span></p>\n\n<p class="x_MsoNormal" style="margin: 0in\; font-size: 16px\; font-family: Calibri\, sans-serif\; caret-color: rgb(33\, 33\, 33)\; color: rgb(33\, 33\, 33)\;"><span style="font-size:14px\;"><span style="font-family:arial\;"><span style="line-height: 1.2\;">-Multi-Family</span></span></span></p>\n\n<p class="x_MsoNormal" style="margin: 0in\; font-size: 16px\; font-family: Calibri\, sans-serif\; caret-color: rgb(33\, 33\, 33)\; color: rgb(33\, 33\, 33)\;"><span style="font-size:14px\;"><span style="font-family:arial\;"><span style="line-height: 1.2\;">-Retail</span></span></span></p>\n\n<p class="x_MsoNormal" style="margin: 0in\; font-size: 16px\; font-family: Calibri\, sans-serif\; caret-color: rgb(33\, 33\, 33)\; color: rgb(33\, 33\, 33)\;"><span style="font-size:14px\;"><span style="font-family:arial\;"><span style="line-height: 1.2\;">-Industrial</span></span></span></p>\n\n<p class="x_MsoNormal" style="margin: 0in\; font-size: 16px\; font-family: Calibri\, sans-serif\; caret-color: rgb(33\, 33\, 33)\; color: rgb(33\, 33\, 33)\;"><span style="font-size:14px\;"><span style="font-family:arial\;"><span style="line-height: 1.2\;">-Office</span></span></span></p>\n\n<p class="x_MsoNormal" style="margin: 0in\; font-size: 16px\; font-family: Calibri\, sans-serif\; caret-color: rgb(33\, 33\, 33)\; color: rgb(33\, 33\, 33)\;"><span style="font-size:14px\;"><span style="font-family:arial\;"><span style="line-height: 1.2\;">-Land</span></span></span></p>\n\n<p class="x_MsoNormal" style="margin: 0in\; font-size: 16px\; font-family: Calibri\, sans-serif\; caret-color: rgb(33\, 33\, 33)\; color: rgb(33\, 33\, 33)\;"><span style="font-size:14px\;"><span style="font-family:arial\;"><span style="line-height: 1.2\;">-owner/user </span></span></span></p>\n\n<p class="x_MsoNormal" style="margin: 0in\; font-size: 16px\; font-family: Calibri\, sans-serif\; caret-color: rgb(33\, 33\, 33)\; color: rgb(33\, 33\, 33)\;"><span style="font-size:14px\;"><span style="font-family:arial\;"><span style="line-height: 1.2\;">-investment</span></span></span></p>\n
LOCATION:Hone Coworks 300 Great Oaks Blvd Suite 300 Albany\, NY 12203
UID:e.3231.2781
SEQUENCE:3
DTSTAMP:20260425T181507Z
URL:https://business.guilderlandchamber.com/events/details/learning-lunch-2781
END:VEVENT

END:VCALENDAR
