BEGIN:VCALENDAR
VERSION:2.0
PRODID:-//ChamberMaster//Event Calendar 2.0//EN
METHOD:PUBLISH
X-PUBLISHED-TTL:P3D
REFRESH-INTERVAL:P3D
CALSCALE:GREGORIAN
BEGIN:VEVENT
DTSTART:20240319T160000Z
DTEND:20240319T170000Z
X-MICROSOFT-CDO-ALLDAYEVENT:FALSE
SUMMARY:Learning Lunch
DESCRIPTION:Learning Lunch\n\n\n\nGuest Speaker: Doug Kelly from Three Buckets Wealth Management
X-ALT-DESC;FMTTYPE=text/html:<u><strong><span style="font-size:20px\;">Learning Lunch</span></strong></u><br>\n<br>\n<span style="font-size:16px\;">Guest Speaker: Doug Kelly from Three Buckets Wealth Management&nbsp\;</span>
LOCATION:Hone Coworks 300 Great Oak Blvd\, Suite 300 Albany\, NY 12203
UID:e.3231.2768
SEQUENCE:3
DTSTAMP:20260425T210024Z
URL:https://business.guilderlandchamber.com/events/details/learning-lunch-2768
END:VEVENT

END:VCALENDAR
