BEGIN:VCALENDAR
VERSION:2.0
PRODID:-//ChamberMaster//Event Calendar 2.0//EN
METHOD:PUBLISH
X-PUBLISHED-TTL:P3D
REFRESH-INTERVAL:P3D
CALSCALE:GREGORIAN
BEGIN:VEVENT
DTSTART:20240522T170000Z
DTEND:20240522T180000Z
X-MICROSOFT-CDO-ALLDAYEVENT:FALSE
SUMMARY:Key4Women Presents: Play You: The Role of a Lifetime!
DESCRIPTION:Join Key4Women as we celebrate National Small Business Month and the remarkable contributions of women entrepreneurs\, leaders\, and their invaluable supporters. Whether you are a business owner or a woman navigating the business world\, enhancing your presence is crucial to making a meaningful impact on those you serve\, lead\, and influence. Learn how to play YOU & bring your presence to the EDGE with these insights:   Explore: Your leadership brand and authentic connections   Dream: Visualize success and share your story   Grow: Out of your comfort zone   Excite: Ignite your mission Pam Sherman is an actor\, writer\, leadership consultant and recovering lawyer who was profiled in People Magazine about her transition from lawyer to actor. Today\, she speaks\, facilitates\, and coaches leaders all over the world about how to present themselves and how to find their EDGE: Explore\, Dream\, Grow\, & Excite . Sherman works with individuals\, Fortune 500 companies\, law firms\, advertising agencies and is a highly rated global resource for the leadership organizations\, EO\, Vistage\, YPO\, and Tiger 21. For more information\, contact at key4women@keybank.com Registration required by May 21st\, 2024 SUMMARY - Play You: The Role of a Lifetime (cvent.com)
X-ALT-DESC;FMTTYPE=text/html:Join Key4Women as we celebrate National Small Business Month and the remarkable contributions of women entrepreneurs\, leaders\, and their invaluable supporters. Whether you are a business owner or a woman navigating the business world\, enhancing your presence is crucial to making a meaningful impact on those you serve\, lead\, and influence. Learn how to play YOU &amp\; bring your presence to the EDGE with these insights: &bull\; Explore: Your leadership brand and authentic connections &bull\; Dream: Visualize success and share your story &bull\; Grow: Out of your comfort zone &bull\; Excite: Ignite your mission Pam Sherman is an actor\, writer\, leadership consultant and recovering lawyer who was profiled in People Magazine about her transition from lawyer to actor. Today\, she speaks\, facilitates\, and coaches leaders all over the world about how to present themselves and how to find their EDGE: Explore\, Dream\, Grow\, &amp\; Excite&reg\;. Sherman works with individuals\, Fortune 500 companies\, law firms\, advertising agencies and is a highly rated global resource for the leadership organizations\, EO\, Vistage\, YPO\, and Tiger 21. For more information\, contact at key4women@keybank.com Registration required by May 21st\, 2024 SUMMARY - Play You: The Role of a Lifetime (cvent.com)
LOCATION:Virtual
UID:e.3231.2796
SEQUENCE:3
DTSTAMP:20260425T195731Z
URL:https://business.guilderlandchamber.com/events/details/key4women-presents-play-you-the-role-of-a-lifetime-2796
END:VEVENT

END:VCALENDAR
