BEGIN:VCALENDAR
VERSION:2.0
PRODID:-//ChamberMaster//Event Calendar 2.0//EN
METHOD:PUBLISH
X-PUBLISHED-TTL:P3D
REFRESH-INTERVAL:P3D
CALSCALE:GREGORIAN
BEGIN:VEVENT
DTSTART:20230929T160000Z
DTEND:20230930T170000Z
X-MICROSOFT-CDO-ALLDAYEVENT:FALSE
SUMMARY:Key4Women presents Mind Your Money Story: Stop the Scarcity Spiral and Confidently Ask for What You Want
DESCRIPTION:Key4Women presents Mind Your Money Story: Stop the Scarcity Spiral and Confidently Ask for What You Want. As women\, we face blocks that prevent us from feeling free and confident around our money. Though many didn't come from us\, what we can control is our relationship with money. This 1-hour webinar delves into a woman's relationship with her money. It will give participants ways to understand their own relationships\, where they began\, and how to change them so they can stop holding back and go after the money they want and deserve. In this webinar participants will learn:   An understanding of their own beliefs and stories about money that might hold them back (and how to face them)   4 mindset distinctions to help them understand their relationships with money: o Scarcity v. Abundance\; Niceness v. Clarity\; Getting Paid v. Being a Creator\; and Wanting Money v. Being Ready to Receive   Small steps they can take to begin to shift their thinking and behavior with money Please register no later than September 28
X-ALT-DESC;FMTTYPE=text/html:Key4Women presents Mind Your Money Story: Stop the Scarcity Spiral and Confidently Ask for What You Want. As women\, we face blocks that prevent us from feeling free and confident around our money. Though many didn&#39\;t come from us\, what we can control is our relationship with money. This 1-hour webinar delves into a woman&#39\;s relationship with her money. It will give participants ways to understand their own relationships\, where they began\, and how to change them so they can stop holding back and go after the money they want and deserve. In this webinar participants will learn: &bull\; An understanding of their own beliefs and stories about money that might hold them back (and how to face them) &bull\; 4 mindset distinctions to help them understand their relationships with money: o Scarcity v. Abundance\; Niceness v. Clarity\; Getting Paid v. Being a Creator\; and Wanting Money v. Being Ready to Receive &bull\; Small steps they can take to begin to shift their thinking and behavior with money Please register no later than September 28
LOCATION:Virtual
UID:e.3231.2675
SEQUENCE:3
DTSTAMP:20260420T115140Z
URL:https://business.guilderlandchamber.com/events/details/key4women-presents-mind-your-money-story-stop-the-scarcity-spiral-and-confidently-ask-for-what-you-want-2675
END:VEVENT

END:VCALENDAR
