BEGIN:VCALENDAR
VERSION:2.0
PRODID:-//ChamberMaster//Event Calendar 2.0//EN
METHOD:PUBLISH
X-PUBLISHED-TTL:P3D
REFRESH-INTERVAL:P3D
CALSCALE:GREGORIAN
BEGIN:VEVENT
DTSTART:20240504T130000Z
DTEND:20240504T160000Z
X-MICROSOFT-CDO-ALLDAYEVENT:FALSE
SUMMARY:I Love My Park Day
DESCRIPTION:Celebrate and enhance Albany County's parks and public lands by volunteering to clean up our parks\, restore trails and work on various site improvement projects - all which help to prepare our park preserve system and public lands for the start of the season.
X-ALT-DESC;FMTTYPE=text/html:Celebrate and enhance Albany County&rsquo\;s parks and public lands by volunteering to clean up our parks\, restore trails and work on various site improvement projects - all which help to prepare our park preserve system and public lands for the start of the season.
LOCATION:Ann Lee Pond Lawson Lake Heldeberg Hudson Rail Trail
UID:e.3231.2793
SEQUENCE:3
DTSTAMP:20260425T193556Z
URL:https://business.guilderlandchamber.com/events/details/i-love-my-park-day-2793
END:VEVENT

END:VCALENDAR
