BEGIN:VCALENDAR
VERSION:2.0
PRODID:-//ChamberMaster//Event Calendar 2.0//EN
METHOD:PUBLISH
X-PUBLISHED-TTL:P3D
REFRESH-INTERVAL:P3D
CALSCALE:GREGORIAN
BEGIN:VEVENT
DTSTART:20231213T220000Z
DTEND:20231214T010000Z
X-MICROSOFT-CDO-ALLDAYEVENT:FALSE
SUMMARY:Holiday Party at The Standard
DESCRIPTION:Holiday Party at The Standard!\n\n\n\nAppetizers & Cash Bar\n\nRaffles\n\nCasual Festive Dress
X-ALT-DESC;FMTTYPE=text/html:<span style="font-size:26px\;"><strong>Holiday Party at The Standard!</strong></span><br />\n<br />\nAppetizers &amp\; Cash Bar<br />\nRaffles<br />\nCasual Festive Dress&nbsp\;<br />\n&nbsp\;
LOCATION:The Standard Crossgates Mall 1 Crossgates Mall Rd Albany\, NY 12203
UID:e.3231.2673
SEQUENCE:3
DTSTAMP:20260426T031938Z
URL:https://business.guilderlandchamber.com/events/details/holiday-party-at-the-standard-2673
END:VEVENT

END:VCALENDAR
