BEGIN:VCALENDAR
VERSION:2.0
PRODID:-//ChamberMaster//Event Calendar 2.0//EN
METHOD:PUBLISH
X-PUBLISHED-TTL:P3D
REFRESH-INTERVAL:P3D
CALSCALE:GREGORIAN
BEGIN:VEVENT
DTSTART:20241120T220000Z
DTEND:20241121T010000Z
X-MICROSOFT-CDO-ALLDAYEVENT:FALSE
SUMMARY:Holiday Kick-off Party
DESCRIPTION:Holiday Kick-off Event and Be an Angel. For over 20 years the Guilderland Chamber of Commerce has supported our community by adapting local families. For the last 2 years\, we have Partner with the YMCA on our Angel giving to over 50 families.
X-ALT-DESC;FMTTYPE=text/html:Holiday Kick-off Event and Be an Angel. For over 20 years the Guilderland Chamber of Commerce has supported our community by adapting local families. For the last 2 years\, we have Partner with the YMCA on our Angel giving to over 50 families.
LOCATION:Please join us at 110 Grill 1 Crossgates Mall Road Albany NY 12203 for an evening of fun\, giving\, and meeting new people!
UID:e.3231.2848
SEQUENCE:3
DTSTAMP:20260425T040623Z
URL:https://business.guilderlandchamber.com/events/details/holiday-kick-off-party-2848
END:VEVENT

END:VCALENDAR
