BEGIN:VCALENDAR
VERSION:2.0
PRODID:-//ChamberMaster//Event Calendar 2.0//EN
METHOD:PUBLISH
X-PUBLISHED-TTL:P3D
REFRESH-INTERVAL:P3D
CALSCALE:GREGORIAN
BEGIN:VEVENT
DTSTART:20261121T170000Z
DTEND:20261121T220000Z
X-MICROSOFT-CDO-ALLDAYEVENT:FALSE
SUMMARY:Holiday Hop & Shop
DESCRIPTION:Join us to be whisked on a trolley for a day of fun\, eating and shopping. This tour will have you explore shops around town you may not have known of. Start and end at Crossgates mall.
X-ALT-DESC;FMTTYPE=text/html:Join us to be whisked on a trolley for a day of fun\, eating and shopping. This tour will have you explore shops around town you may not have known of. Start and end at Crossgates mall.
LOCATION:
UID:e.3231.3419
SEQUENCE:3
DTSTAMP:20260424T173508Z
URL:https://business.guilderlandchamber.com/events/details/holiday-hop-shop-3419
END:VEVENT

END:VCALENDAR
