BEGIN:VCALENDAR
VERSION:2.0
PRODID:-//ChamberMaster//Event Calendar 2.0//EN
METHOD:PUBLISH
X-PUBLISHED-TTL:P3D
REFRESH-INTERVAL:P3D
CALSCALE:GREGORIAN
BEGIN:VEVENT
DTSTART:20251206T230000Z
DTEND:20251207T010000Z
X-MICROSOFT-CDO-ALLDAYEVENT:FALSE
SUMMARY:Guilderland Town Tree lighting
DESCRIPTION:Welcome to the First Annual Guilderland Town Christmas Tree Lighting. Enjoy an evening of Parade\, Music\, with food and drink available.
X-ALT-DESC;FMTTYPE=text/html:Welcome to the First Annual Guilderland Town Christmas Tree Lighting. Enjoy an evening of Parade\, Music\, with food and drink available.
LOCATION:Sage Bistro at Western Turnpike 2350 Western Ave\, Guilderland\, NY 12084
UID:e.3231.3306
SEQUENCE:3
DTSTAMP:20260424T085347Z
URL:https://business.guilderlandchamber.com/events/details/guilderland-town-tree-lighting-3306
END:VEVENT

END:VCALENDAR
