BEGIN:VCALENDAR
VERSION:2.0
PRODID:-//ChamberMaster//Event Calendar 2.0//EN
METHOD:PUBLISH
X-PUBLISHED-TTL:P3D
REFRESH-INTERVAL:P3D
CALSCALE:GREGORIAN
BEGIN:VEVENT
DTSTART:20240430T223000Z
DTEND:20240501T000000Z
X-MICROSOFT-CDO-ALLDAYEVENT:FALSE
SUMMARY:Guilderland Police Neighborhood Watch Meeting
DESCRIPTION:The Guilderland Police Department will be holding the next Neighborhood Watch Meeting on Tuesday\, April 30th at 6:30PM. The meeting will be held at Guilderland Town Hall located at 5209 Western Turnpike.\n\nThe following Google meet link will be available for those who cannot attend in person\, but would still like to check in:\n\nGoogle Meet joining info\n\nVideo call link: https://meet.google.com/awg-zoip-sox\n\nOr dial:  (US) +1 740-561-3897  PIN:  783 618 450 #
X-ALT-DESC;FMTTYPE=text/html:<div dir="auto" style="font-family: system-ui\, -apple-system\, &quot\;system-ui&quot\;\, &quot\;.SFNSText-Regular&quot\;\, sans-serif\; color: rgb(5\, 5\, 5)\; font-size: 15px\; white-space-collapse: preserve\; background-color: rgb(255\, 255\, 255)\; animation-name: none !important\; transition-property: none !important\;">The Guilderland Police Department will be holding the next Neighborhood Watch Meeting on Tuesday\, April 30th at 6:30PM. The meeting will be held at Guilderland Town Hall located at 5209 Western Turnpike.</div>\n\n<div dir="auto" style="font-family: system-ui\, -apple-system\, &quot\;system-ui&quot\;\, &quot\;.SFNSText-Regular&quot\;\, sans-serif\; color: rgb(5\, 5\, 5)\; font-size: 15px\; white-space-collapse: preserve\; background-color: rgb(255\, 255\, 255)\; animation-name: none !important\; transition-property: none !important\;">The following Google meet link will be available for those who cannot attend in person\, but would still like to check in:</div>\n\n<div dir="auto" style="font-family: system-ui\, -apple-system\, &quot\;system-ui&quot\;\, &quot\;.SFNSText-Regular&quot\;\, sans-serif\; color: rgb(5\, 5\, 5)\; font-size: 15px\; white-space-collapse: preserve\; background-color: rgb(255\, 255\, 255)\; animation-name: none !important\; transition-property: none !important\;">Google Meet joining info</div>\n\n<div dir="auto" style="font-family: system-ui\, -apple-system\, &quot\;system-ui&quot\;\, &quot\;.SFNSText-Regular&quot\;\, sans-serif\; color: rgb(5\, 5\, 5)\; font-size: 15px\; white-space-collapse: preserve\; background-color: rgb(255\, 255\, 255)\; animation-name: none !important\; transition-property: none !important\;">Video call link: <span style="animation-name: none !important\; transition-property: none !important\; font-family: inherit\;"><a class="x1i10hfl xjbqb8w x1ejq31n xd10rxx x1sy0etr x17r0tee x972fbf xcfux6l x1qhh985 xm0m39n x9f619 x1ypdohk xt0psk2 xe8uvvx xdj266r x11i5rnm xat24cr x1mh8g0r xexx8yu x4uap5 x18d9i69 xkhd6sd x16tdsg8 x1hl2dhg xggy1nq x1a2a7pz xt0b8zv x1fey0fg" href="https://l.facebook.com/l.php?u=https%3A%2F%2Fmeet.google.com%2Fawg-zoip-sox%3Ffbclid%3DIwAR3olduBSZjFIXc1VT0z3N0RxZsqSHydemM4mqo--XIfdSi7NqgY0N9roSg_aem_AcZm-7NUBd5doKara1jRAZv19Cxw6fgg9QLm5tirzfqSfpW1TDaXWjELM4Sm9Gyk8hak_p3-bVFbw8DX44JZLuXr&amp\;h=AT21pi6fBRn-ohEmeUZGxGWEietYTfY1RIQwH9OXXh3uwBYgkpoaJz601YJI1OG4YTzx62B7fQlWW6Clxo4AtDW1XW8rAYDu7fwMfkUxDKigKxrtvA_gg9_1cyzbFlnf_do6xuI&amp\;__tn__=-UK-R&amp\;c[0]=AT18CahS2BKdcAfbpCwiwLGR-pCgDy6P68Z2i76seLgiECmDe0NIzFWXpjEz7qZHnFG2udvIPNJwGPLw9tlKNpQrLkn5T8NQAxNMR6fjRYRpMwF3i5aEeGqCu0pTugQ9fmYXpWF2HyYVy1ElQJ1qGzECaF92UG9_kv8vV833cCLyXpY50w" rel="nofollow noreferrer" role="link" style="cursor: pointer\; text-decoration-line: none\; outline: none\; list-style: none\; margin: 0px\; text-align: inherit\; border-style: none\; -webkit-tap-highlight-color: transparent\; padding: 0px\; border-width: 0px\; box-sizing: border-box\; touch-action: manipulation\; background-color: transparent\; display: inline\; font-family: inherit\; animation-name: none !important\; transition-property: none !important\;" tabindex="0" target="_blank">https://meet.google.com/awg-zoip-sox</a></span></div>\n\n<div dir="auto" style="font-family: system-ui\, -apple-system\, &quot\;system-ui&quot\;\, &quot\;.SFNSText-Regular&quot\;\, sans-serif\; color: rgb(5\, 5\, 5)\; font-size: 15px\; white-space-collapse: preserve\; background-color: rgb(255\, 255\, 255)\; animation-name: none !important\; transition-property: none !important\;">Or dial: &#8234\;(US) +1 740-561-3897&#8236\; PIN: &#8234\;783 618 450&#8236\;#</div>\n
LOCATION:Guilderland Town Hall 5209 Western Turnpike
UID:e.3231.2792
SEQUENCE:3
DTSTAMP:20260425T210919Z
URL:https://business.guilderlandchamber.com/events/details/guilderland-police-neighborhood-watch-meeting-2792
END:VEVENT

END:VCALENDAR
