BEGIN:VCALENDAR
VERSION:2.0
PRODID:-//ChamberMaster//Event Calendar 2.0//EN
METHOD:PUBLISH
X-PUBLISHED-TTL:P3D
REFRESH-INTERVAL:P3D
CALSCALE:GREGORIAN
BEGIN:VEVENT
DTSTART:20240327T180000Z
DTEND:20240327T210000Z
X-MICROSOFT-CDO-ALLDAYEVENT:FALSE
SUMMARY:Get Hired Job Fair
DESCRIPTION:CROSSGATES TO HOST THE "GET HIRED!" JOB FAIR\n\n-- Local businesses seeking employees can participate in the first Get Hired Job Fair of 2024 --\n\n\n\nGUILDERLAND\, NY   Crossgates will once again be hosting a special "Get Hired! " Job Fair on\n\nWednesday\, March 27th from 2pm-5pm. Businesses from the local Capital Region\, in addition to\n\nretailers within Crossgates\, will be looking to fill various part-time and full-time positions. These\n\npositions will add to the 3\,000 jobs Crossgates currently provides within the Town of Guilderland and\n\nAlbany County.\n\n\n\nGet Hired Job Fair:\n\nWednesday\, March 27th from 2pm-5pm on the lower level near Burlington & Apple.\n\n\n\nExamples of Businesses Hiring :\n\nNew York State Office of Children and Family Services\n\nNew York State Department of Health\n\nTSA (Transportation Security Administration): Albany International Airport\n\nKIPP Capital Region Public Schools\n\nSpectrum\n\nNY Air National Guard\n\n\n\nShowcase your business to prospective employees:\n\nFor local businesses looking to hire\, we urge you to reach out as soon as possible to reserve your spot\n\nin advance. Businesses seeking employees are encouraged to reach out to Jim Geraghty at\n\nJamesGeraghty@pyramidmg.com or by calling 617-840-2998. You can also visit\n\nhttps://www.shopcrossgates.com/event/get-hired-job-fair-4/ to sign up to participate.\n\nAvailable jobs within Crossgates vary and will be added daily to the website at\n\nhttps://www.shopcrossgates.com/employment/.
X-ALT-DESC;FMTTYPE=text/html:<p class="p1" style="margin: 0px\; font-variant-numeric: normal\; font-variant-east-asian: normal\; font-variant-alternates: normal\; font-kerning: auto\; font-optical-sizing: auto\; font-feature-settings: normal\; font-variation-settings: normal\; font-variant-position: normal\; font-stretch: normal\; font-size: 14px\; line-height: normal\; font-family: Helvetica\; color: rgb(0\, 0\, 0)\;">CROSSGATES TO HOST THE &ldquo\;GET HIRED!&rdquo\; JOB FAIR</p>\n\n<p class="p2" style="margin: 0px\; font-variant-numeric: normal\; font-variant-east-asian: normal\; font-variant-alternates: normal\; font-kerning: auto\; font-optical-sizing: auto\; font-feature-settings: normal\; font-variation-settings: normal\; font-variant-position: normal\; font-stretch: normal\; font-size: 11px\; line-height: normal\; font-family: Helvetica\; color: rgb(0\, 0\, 0)\;">-- Local businesses seeking employees can participate in the first Get Hired Job Fair of 2024 --</p>\n\n<p class="p2" style="margin: 0px\; font-variant-numeric: normal\; font-variant-east-asian: normal\; font-variant-alternates: normal\; font-kerning: auto\; font-optical-sizing: auto\; font-feature-settings: normal\; font-variation-settings: normal\; font-variant-position: normal\; font-stretch: normal\; font-size: 11px\; line-height: normal\; font-family: Helvetica\; color: rgb(0\, 0\, 0)\;"><br />\nGUILDERLAND\, NY &ndash\; Crossgates will once again be hosting a special &ldquo\;Get Hired! &rdquo\; Job Fair on</p>\n\n<p class="p2" style="margin: 0px\; font-variant-numeric: normal\; font-variant-east-asian: normal\; font-variant-alternates: normal\; font-kerning: auto\; font-optical-sizing: auto\; font-feature-settings: normal\; font-variation-settings: normal\; font-variant-position: normal\; font-stretch: normal\; font-size: 11px\; line-height: normal\; font-family: Helvetica\; color: rgb(0\, 0\, 0)\;">Wednesday\, March 27<span class="s1" style="font-variant-numeric: normal\; font-variant-east-asian: normal\; font-variant-alternates: normal\; font-kerning: auto\; font-optical-sizing: auto\; font-feature-settings: normal\; font-variation-settings: normal\; font-variant-position: normal\; font-stretch: normal\; font-size: 7px\; line-height: normal\;">th</span> from 2pm-5pm. Businesses from the local Capital Region\, in addition to</p>\n\n<p class="p2" style="margin: 0px\; font-variant-numeric: normal\; font-variant-east-asian: normal\; font-variant-alternates: normal\; font-kerning: auto\; font-optical-sizing: auto\; font-feature-settings: normal\; font-variation-settings: normal\; font-variant-position: normal\; font-stretch: normal\; font-size: 11px\; line-height: normal\; font-family: Helvetica\; color: rgb(0\, 0\, 0)\;">retailers within Crossgates\, will be looking to fill various part-time and full-time positions. These</p>\n\n<p class="p2" style="margin: 0px\; font-variant-numeric: normal\; font-variant-east-asian: normal\; font-variant-alternates: normal\; font-kerning: auto\; font-optical-sizing: auto\; font-feature-settings: normal\; font-variation-settings: normal\; font-variant-position: normal\; font-stretch: normal\; font-size: 11px\; line-height: normal\; font-family: Helvetica\; color: rgb(0\, 0\, 0)\;">positions will add to the 3\,000 jobs Crossgates currently provides within the Town of Guilderland and</p>\n\n<p class="p2" style="margin: 0px\; font-variant-numeric: normal\; font-variant-east-asian: normal\; font-variant-alternates: normal\; font-kerning: auto\; font-optical-sizing: auto\; font-feature-settings: normal\; font-variation-settings: normal\; font-variant-position: normal\; font-stretch: normal\; font-size: 11px\; line-height: normal\; font-family: Helvetica\; color: rgb(0\, 0\, 0)\;">Albany County.</p>\n\n<p class="p2" style="margin: 0px\; font-variant-numeric: normal\; font-variant-east-asian: normal\; font-variant-alternates: normal\; font-kerning: auto\; font-optical-sizing: auto\; font-feature-settings: normal\; font-variation-settings: normal\; font-variant-position: normal\; font-stretch: normal\; font-size: 11px\; line-height: normal\; font-family: Helvetica\; color: rgb(0\, 0\, 0)\;"><br />\nGet Hired Job Fair:</p>\n\n<p class="p2" style="margin: 0px\; font-variant-numeric: normal\; font-variant-east-asian: normal\; font-variant-alternates: normal\; font-kerning: auto\; font-optical-sizing: auto\; font-feature-settings: normal\; font-variation-settings: normal\; font-variant-position: normal\; font-stretch: normal\; font-size: 11px\; line-height: normal\; font-family: Helvetica\; color: rgb(0\, 0\, 0)\;">Wednesday\, March 27<span class="s1" style="font-variant-numeric: normal\; font-variant-east-asian: normal\; font-variant-alternates: normal\; font-kerning: auto\; font-optical-sizing: auto\; font-feature-settings: normal\; font-variation-settings: normal\; font-variant-position: normal\; font-stretch: normal\; font-size: 7px\; line-height: normal\;">th</span> from 2pm-5pm on the lower level near Burlington &amp\; Apple.</p>\n\n<p class="p2" style="margin: 0px\; font-variant-numeric: normal\; font-variant-east-asian: normal\; font-variant-alternates: normal\; font-kerning: auto\; font-optical-sizing: auto\; font-feature-settings: normal\; font-variation-settings: normal\; font-variant-position: normal\; font-stretch: normal\; font-size: 11px\; line-height: normal\; font-family: Helvetica\; color: rgb(0\, 0\, 0)\;"><br />\nExamples of Businesses Hiring :</p>\n\n<p class="p3" style="margin: 0px\; font-variant-numeric: normal\; font-variant-east-asian: normal\; font-variant-alternates: normal\; font-kerning: auto\; font-optical-sizing: auto\; font-feature-settings: normal\; font-variation-settings: normal\; font-variant-position: normal\; font-stretch: normal\; font-size: 10px\; line-height: normal\; font-family: Helvetica\; color: rgb(0\, 0\, 0)\;">New York State Office of Children and Family Services</p>\n\n<p class="p3" style="margin: 0px\; font-variant-numeric: normal\; font-variant-east-asian: normal\; font-variant-alternates: normal\; font-kerning: auto\; font-optical-sizing: auto\; font-feature-settings: normal\; font-variation-settings: normal\; font-variant-position: normal\; font-stretch: normal\; font-size: 10px\; line-height: normal\; font-family: Helvetica\; color: rgb(0\, 0\, 0)\;">New York State Department of Health</p>\n\n<p class="p3" style="margin: 0px\; font-variant-numeric: normal\; font-variant-east-asian: normal\; font-variant-alternates: normal\; font-kerning: auto\; font-optical-sizing: auto\; font-feature-settings: normal\; font-variation-settings: normal\; font-variant-position: normal\; font-stretch: normal\; font-size: 10px\; line-height: normal\; font-family: Helvetica\; color: rgb(0\, 0\, 0)\;">TSA (Transportation Security Administration): Albany International Airport</p>\n\n<p class="p3" style="margin: 0px\; font-variant-numeric: normal\; font-variant-east-asian: normal\; font-variant-alternates: normal\; font-kerning: auto\; font-optical-sizing: auto\; font-feature-settings: normal\; font-variation-settings: normal\; font-variant-position: normal\; font-stretch: normal\; font-size: 10px\; line-height: normal\; font-family: Helvetica\; color: rgb(0\, 0\, 0)\;">KIPP Capital Region Public Schools</p>\n\n<p class="p3" style="margin: 0px\; font-variant-numeric: normal\; font-variant-east-asian: normal\; font-variant-alternates: normal\; font-kerning: auto\; font-optical-sizing: auto\; font-feature-settings: normal\; font-variation-settings: normal\; font-variant-position: normal\; font-stretch: normal\; font-size: 10px\; line-height: normal\; font-family: Helvetica\; color: rgb(0\, 0\, 0)\;">Spectrum</p>\n\n<p class="p3" style="margin: 0px\; font-variant-numeric: normal\; font-variant-east-asian: normal\; font-variant-alternates: normal\; font-kerning: auto\; font-optical-sizing: auto\; font-feature-settings: normal\; font-variation-settings: normal\; font-variant-position: normal\; font-stretch: normal\; font-size: 10px\; line-height: normal\; font-family: Helvetica\; color: rgb(0\, 0\, 0)\;">NY Air National Guard</p>\n\n<p class="p2" style="margin: 0px\; font-variant-numeric: normal\; font-variant-east-asian: normal\; font-variant-alternates: normal\; font-kerning: auto\; font-optical-sizing: auto\; font-feature-settings: normal\; font-variation-settings: normal\; font-variant-position: normal\; font-stretch: normal\; font-size: 11px\; line-height: normal\; font-family: Helvetica\; color: rgb(0\, 0\, 0)\;"><br />\nShowcase your business to prospective employees:</p>\n\n<p class="p2" style="margin: 0px\; font-variant-numeric: normal\; font-variant-east-asian: normal\; font-variant-alternates: normal\; font-kerning: auto\; font-optical-sizing: auto\; font-feature-settings: normal\; font-variation-settings: normal\; font-variant-position: normal\; font-stretch: normal\; font-size: 11px\; line-height: normal\; font-family: Helvetica\; color: rgb(0\, 0\, 0)\;">For local businesses looking to hire\, we urge you to reach out as soon as possible to reserve your spot</p>\n\n<p class="p2" style="margin: 0px\; font-variant-numeric: normal\; font-variant-east-asian: normal\; font-variant-alternates: normal\; font-kerning: auto\; font-optical-sizing: auto\; font-feature-settings: normal\; font-variation-settings: normal\; font-variant-position: normal\; font-stretch: normal\; font-size: 11px\; line-height: normal\; font-family: Helvetica\; color: rgb(0\, 0\, 0)\;">in advance. Businesses seeking employees are encouraged to reach out to Jim Geraghty at</p>\n\n<p class="p2" style="margin: 0px\; font-variant-numeric: normal\; font-variant-east-asian: normal\; font-variant-alternates: normal\; font-kerning: auto\; font-optical-sizing: auto\; font-feature-settings: normal\; font-variation-settings: normal\; font-variant-position: normal\; font-stretch: normal\; font-size: 11px\; line-height: normal\; font-family: Helvetica\; color: rgb(0\, 0\, 0)\;"><span class="s2" style="color: rgb(11\, 76\, 180)\;">JamesGeraghty@pyramidmg.com</span> or by calling 617-840-2998. You can also visit</p>\n\n<p class="p4" style="margin: 0px\; font-variant-numeric: normal\; font-variant-east-asian: normal\; font-variant-alternates: normal\; font-kerning: auto\; font-optical-sizing: auto\; font-feature-settings: normal\; font-variation-settings: normal\; font-variant-position: normal\; font-stretch: normal\; font-size: 11px\; line-height: normal\; font-family: Helvetica\; color: rgb(11\, 76\, 180)\;">https://www.shopcrossgates.com/event/get-hired-job-fair-4/<span class="s3" style="color: rgb(0\, 0\, 0)\;"> to sign up to participate.</span></p>\n\n<p class="p2" style="margin: 0px\; font-variant-numeric: normal\; font-variant-east-asian: normal\; font-variant-alternates: normal\; font-kerning: auto\; font-optical-sizing: auto\; font-feature-settings: normal\; font-variation-settings: normal\; font-variant-position: normal\; font-stretch: normal\; font-size: 11px\; line-height: normal\; font-family: Helvetica\; color: rgb(0\, 0\, 0)\;">Available jobs within Crossgates vary and will be added daily to the website at</p>\n\n<p class="p4" style="margin: 0px\; font-variant-numeric: normal\; font-variant-east-asian: normal\; font-variant-alternates: normal\; font-kerning: auto\; font-optical-sizing: auto\; font-feature-settings: normal\; font-variation-settings: normal\; font-variant-position: normal\; font-stretch: normal\; font-size: 11px\; line-height: normal\; font-family: Helvetica\; color: rgb(11\, 76\, 180)\;">https://www.shopcrossgates.com/employment/<span class="s3" style="color: rgb(0\, 0\, 0)\;">.</span></p>\n\n<p class="p2" style="margin: 0px\; font-variant-numeric: normal\; font-variant-east-asian: normal\; font-variant-alternates: normal\; font-kerning: auto\; font-optical-sizing: auto\; font-feature-settings: normal\; font-variation-settings: normal\; font-variant-position: normal\; font-stretch: normal\; font-size: 11px\; line-height: normal\; font-family: Helvetica\; color: rgb(0\, 0\, 0)\;">&nbsp\;</p>\n
LOCATION:Crossgates Mall\, Lower Level near Burlington & Apple 1 Crossgates Mall Rd Albany\, NY 12203
UID:e.3231.2764
SEQUENCE:3
DTSTAMP:20260425T211155Z
URL:https://business.guilderlandchamber.com/events/details/get-hired-job-fair-2764
END:VEVENT

END:VCALENDAR
