BEGIN:VCALENDAR
VERSION:2.0
PRODID:-//ChamberMaster//Event Calendar 2.0//EN
METHOD:PUBLISH
X-PUBLISHED-TTL:P3D
REFRESH-INTERVAL:P3D
CALSCALE:GREGORIAN
BEGIN:VEVENT
DTSTART:20240607T123000Z
DTEND:20240607T133000Z
X-MICROSOFT-CDO-ALLDAYEVENT:FALSE
SUMMARY:First Friday Business Breakfast
DESCRIPTION:First Friday Business Breakfast\n\nGuest Speaker: Brittiny Razzano\, Esq. from Razzano Law\, PLLC
X-ALT-DESC;FMTTYPE=text/html:First Friday Business Breakfast<br />\nGuest Speaker: Brittiny Razzano\, Esq. from Razzano Law\, PLLC
LOCATION:Hone Coworks 300 Great Oaks Blvd Suite 300 Albany\, NY 12203
UID:e.3231.2782
SEQUENCE:3
DTSTAMP:20260425T181029Z
URL:https://business.guilderlandchamber.com/events/details/first-friday-business-breakfast-2782
END:VEVENT

END:VCALENDAR
