BEGIN:VCALENDAR
VERSION:2.0
PRODID:-//ChamberMaster//Event Calendar 2.0//EN
METHOD:PUBLISH
X-PUBLISHED-TTL:P3D
REFRESH-INTERVAL:P3D
CALSCALE:GREGORIAN
BEGIN:VEVENT
DTSTART:20240503T120000Z
DTEND:20240503T130000Z
X-MICROSOFT-CDO-ALLDAYEVENT:FALSE
SUMMARY:First Friday Business Breakfast
DESCRIPTION:First Friday Business Breakfast \n\nGuest Speaker Greg Chanse\, SBA\n\nTopic: How small businesses can utilize AI?
X-ALT-DESC;FMTTYPE=text/html:<span style="font-size:14px\;"><span style="font-family:arial\;">First Friday Business Breakfast&nbsp\;<br />\nGuest Speaker Greg Chanse\, SBA<br />\n<span style="caret-color: rgb(33\, 33\, 33)\; color: rgb(33\, 33\, 33)\;">Topic: How small businesses can utilize AI?</span></span></span><br />\n&nbsp\;
LOCATION:Hone Coworks 300 Great Oaks Blvd Suite 300 Albany\, NY 12203
UID:e.3231.2771
SEQUENCE:3
DTSTAMP:20260425T181029Z
URL:https://business.guilderlandchamber.com/events/details/first-friday-business-breakfast-2771
END:VEVENT

END:VCALENDAR
