BEGIN:VCALENDAR
VERSION:2.0
PRODID:-//ChamberMaster//Event Calendar 2.0//EN
METHOD:PUBLISH
X-PUBLISHED-TTL:P3D
REFRESH-INTERVAL:P3D
CALSCALE:GREGORIAN
BEGIN:VEVENT
DTSTART:20240301T130000Z
DTEND:20240301T140000Z
X-MICROSOFT-CDO-ALLDAYEVENT:FALSE
SUMMARY:First Friday Business Breakfast
DESCRIPTION:First Friday Business Breakfast\n\nGuest Speaker Adam Knaust from MPWM Advisory Solutions\n\n\n\nAdam Knaust is a Registered Financial Advisor from the Capital Region. With over a decade of experience as an advisor\, he has recently opened the first branch of MPWM Advisory Solutions in Albany\, New York. He specializes in Financial Planning\, Investment Management\, and Risk Mitigation. His practice has grown through his sincere desire to help people identify and manage their important life goals. As a result of his work his clients have been able to comfortably retire\, pay for children's education\, and leave a meaningful legacy.
X-ALT-DESC;FMTTYPE=text/html:First Friday Business Breakfast<br />\nGuest Speaker Adam Knaust from MPWM Advisory Solutions<br />\n<br />\nAdam Knaust is a Registered Financial Advisor from the Capital Region. With over a decade of experience as an advisor\, he has recently opened the first branch of MPWM Advisory Solutions in Albany\, New York. He specializes in Financial Planning\, Investment Management\, and Risk Mitigation. His practice has grown through his sincere desire to help people identify and manage their important life goals. As a result of his work his clients have been able to comfortably retire\, pay for children&#39\;s education\, and leave a meaningful legacy.
LOCATION:Hone Coworks 300 Great Oaks Blvd Suite 300 Albany NY 12203
UID:e.3231.2740
SEQUENCE:3
DTSTAMP:20260425T210146Z
URL:https://business.guilderlandchamber.com/events/details/first-friday-business-breakfast-2740
END:VEVENT

END:VCALENDAR
