BEGIN:VCALENDAR
VERSION:2.0
PRODID:-//ChamberMaster//Event Calendar 2.0//EN
METHOD:PUBLISH
X-PUBLISHED-TTL:P3D
REFRESH-INTERVAL:P3D
CALSCALE:GREGORIAN
BEGIN:VEVENT
DTSTART:20240202T130000Z
DTEND:20240202T140000Z
X-MICROSOFT-CDO-ALLDAYEVENT:FALSE
SUMMARY:First Friday Business Breakfast
DESCRIPTION:First Friday Business Breakfast\n\nGuest Speaker: Joe Fazioli\, from Aerostade
X-ALT-DESC;FMTTYPE=text/html:First Friday Business Breakfast<br />\nGuest Speaker:&nbsp\;<span style="caret-color: rgb(33\, 33\, 33)\; color: rgb(33\, 33\, 33)\; font-family: Calibri\, sans-serif\; font-size: 14.6667px\;">Joe Fazioli\, from Aerostade</span>
LOCATION:Hone Coworks 300 Great Oaks Blvd\, Suite 300 Albany\, NY 12203
UID:e.3231.2730
SEQUENCE:3
DTSTAMP:20260425T223249Z
URL:https://business.guilderlandchamber.com/events/details/first-friday-business-breakfast-2730
END:VEVENT

END:VCALENDAR
