BEGIN:VCALENDAR
VERSION:2.0
PRODID:-//ChamberMaster//Event Calendar 2.0//EN
METHOD:PUBLISH
X-PUBLISHED-TTL:P3D
REFRESH-INTERVAL:P3D
CALSCALE:GREGORIAN
BEGIN:VEVENT
DTSTART:20240105T130000Z
DTEND:20240105T140000Z
X-MICROSOFT-CDO-ALLDAYEVENT:FALSE
SUMMARY:First Friday Business Breakfast
DESCRIPTION:First Friday Business Breakfast\n\n\n\nGuest Speaker: John Conaway\, CPA from Empire Financial \n\n"Tax Tips\, What You Should Know For The Upcoming Tax Season"
X-ALT-DESC;FMTTYPE=text/html:<span style="font-size:20px\;"><u><strong>First Friday Business Breakfast</strong></u></span><br />\n<br />\n<span style="font-size:18px\;">Guest Speaker: <em>John Conaway\, CPA</em> from <em>Empire Financial&nbsp\;</em><br />\n&quot\;Tax Tips\, What You Should Know For The Upcoming Tax Season&quot\;</span>
LOCATION:Hone Coworks 300 Great Oaks Blvd\, Suite 300 Albany\, NY 12203
UID:e.3231.2702
SEQUENCE:3
DTSTAMP:20260426T001227Z
URL:https://business.guilderlandchamber.com/events/details/first-friday-business-breakfast-2702
END:VEVENT

END:VCALENDAR
