BEGIN:VCALENDAR
VERSION:2.0
PRODID:-//ChamberMaster//Event Calendar 2.0//EN
METHOD:PUBLISH
X-PUBLISHED-TTL:P3D
REFRESH-INTERVAL:P3D
CALSCALE:GREGORIAN
BEGIN:VEVENT
DTSTART:20231201T130000Z
DTEND:20231201T140000Z
X-MICROSOFT-CDO-ALLDAYEVENT:FALSE
SUMMARY:First Friday Business Breakfast
DESCRIPTION:First Friday Business Breakfast with Special Guest Leslie Horn Trosset from Leslie Horn\n\n\nTopic: Navigating the Future: Harnessing AI for Small Business Marketing in 2024\n\nAttendees will gain insightful strategies for integrating generative artificial intelligence into their marketing tactics\, tailored specifically for small businesses. The talk will provide practical examples and future-forward approaches\, enabling entrepreneurs to stay ahead in the rapidly evolving digital landscape.
X-ALT-DESC;FMTTYPE=text/html:<u><strong><span style="font-size:14px\;">First Friday Business Breakfast with Special Guest Leslie Horn Trosset from Leslie Horn</span></strong></u>\n<div class="elementToProof" style="caret-color: rgb(33\, 33\, 33)\; color: rgb(33\, 33\, 33)\; font-family: Calibri\; font-size: 16px\;"><br />\n<span style="font-size:14px\;"><span style="font-family: Calibri\, Helvetica\, sans-serif\; color: rgb(0\, 0\, 0)\; background-color: rgb(255\, 255\, 255)\; line-height: 1.2\;"><b>Topic: Navigating the Future: Harnessing AI for Small Business Marketing in 2024</b></span></span></div>\n\n<div class="elementToProof" style="caret-color: rgb(33\, 33\, 33)\; color: rgb(33\, 33\, 33)\; font-family: Calibri\; font-size: 16px\;"><span style="font-size:14px\;"><span style="font-family: Söhne\, ui-sans-serif\, system-ui\, -apple-system\, &quot\;Segoe UI&quot\;\, Roboto\, Ubuntu\, Cantarell\, &quot\;Noto Sans&quot\;\, sans-serif\, &quot\;Helvetica Neue&quot\;\, Arial\, &quot\;Apple Color Emoji&quot\;\, &quot\;Segoe UI Emoji&quot\;\, &quot\;Segoe UI Symbol&quot\;\, &quot\;Noto Color Emoji&quot\;\; color: rgb(15\, 15\, 15)\; background-color: rgb(255\, 255\, 255)\; line-height: 1.2\;">Attendees will gain insightful strategies for integrating generative artificial intelligence into their marketing tactics\, tailored specifically for small businesses. The talk will provide practical examples and future-forward approaches\, enabling entrepreneurs to stay ahead in the rapidly evolving digital landscape.</span></span></div>\n
LOCATION:Hone Coworks 300 Great Oaks Blvd Suite 300 Albany\, NY 12203
UID:e.3231.2672
SEQUENCE:3
DTSTAMP:20260426T014501Z
URL:https://business.guilderlandchamber.com/events/details/first-friday-business-breakfast-2672
END:VEVENT

END:VCALENDAR
