BEGIN:VCALENDAR
VERSION:2.0
PRODID:-//ChamberMaster//Event Calendar 2.0//EN
METHOD:PUBLISH
X-PUBLISHED-TTL:P3D
REFRESH-INTERVAL:P3D
CALSCALE:GREGORIAN
BEGIN:VEVENT
DTSTART:20231103T120000Z
DTEND:20231103T130000Z
X-MICROSOFT-CDO-ALLDAYEVENT:FALSE
SUMMARY:First Friday Business Breakfast
DESCRIPTION:"Employee attraction and retention"\n\nStrategies utilizing life insurance to attract and retain the best employees. All while creating a private reserve for additional opportunities and deferred compensation.\nPresented by: David Lewicki from NPA Financial\, LLC
X-ALT-DESC;FMTTYPE=text/html:&ldquo\;Employee attraction and retention&rdquo\;<br />\nStrategies utilizing life insurance to attract and retain the best employees. All while creating a private reserve for additional opportunities and deferred compensation.\n<div>Presented by: David Lewicki from NPA Financial\, LLC</div>\n
LOCATION:Hone Coworks 300 Great Oaks Blvd Suite 300 Albany\, NY 12203
UID:e.3231.2669
SEQUENCE:3
DTSTAMP:20260426T031759Z
URL:https://business.guilderlandchamber.com/events/details/first-friday-business-breakfast-2669
END:VEVENT

END:VCALENDAR
