BEGIN:VCALENDAR
VERSION:2.0
PRODID:-//ChamberMaster//Event Calendar 2.0//EN
METHOD:PUBLISH
X-PUBLISHED-TTL:P3D
REFRESH-INTERVAL:P3D
CALSCALE:GREGORIAN
BEGIN:VEVENT
DTSTART:20231006T120000Z
DTEND:20231006T130000Z
X-MICROSOFT-CDO-ALLDAYEVENT:FALSE
SUMMARY:First Friday Business Breakfast
DESCRIPTION:Presented by Greg Chanese\, a Social Media expert from the University at Albany's Small Business Development Center
X-ALT-DESC;FMTTYPE=text/html:Presented by Greg Chanese\, a Social Media expert from the University at Albany&#39\;s Small Business Development Center
LOCATION:Hone Coworks 300 Great Oaks Blvd Suite 300 Albany\, NY 12203
UID:e.3231.2666
SEQUENCE:3
DTSTAMP:20260426T043742Z
URL:https://business.guilderlandchamber.com/events/details/first-friday-business-breakfast-2666
END:VEVENT

END:VCALENDAR
